BEGIN:VCALENDAR
PRODID:-//Microsoft Corporation//Outlook 12.0 MIMEDIR//EN
VERSION:2.0
METHOD:PUBLISH
X-MS-OLK-FORCEINSPECTOROPEN:TRUE
BEGIN:VEVENT
CLASS:PUBLIC
CREATED:20260419T172359Z
DESCRIPTION:The Business Analysis Conference Europe 2020 will provide an unparalleled networking opportunity for business analysts from across Europe and beyond. Whether you are just starting your BA journey, you are an experienced BA or you would like to understand the role of BAs further, this conference is for you.\n \nLearn from your Peers.\n \nSix Conference Tracks with More Than 60 Sessions including Company Case Studies.\n \nCase Studies and Contributors include:\n \nShell, National Grid, Sky, BT, Bank of England, M&G, Nationwide Building Society, Hargreaves Lansdown, Capita, Whitbread, Department for Work and Pensions, Home Office, Dyson IT, Thermo Fisher Scientific, News UK, Close Brothers, Canada Life UK, Aviva, QinetiQ, AO.com, The British Library, Royal Devon and Exeter NHS Foundation Trust, Registers of Scotland, Welsh Rugby Union Group, Wokingham Borough Council, The Norwegian Police ICT Services, PwC, Yoox Net-A-Porter Group, Convex Insurance, Aldermore, Linklaters, The Open University, University of Reading, Melbourne University.\n \nThirteen Pre-Conference Workshops. Choose from a comprehensive range of workshops on specific topics to get you quickly up-to-speed or fine tune your performance. Choose from introductory to advanced levels.\n \nBCS Certification: Two full day pre-conference workshops covering the BCS Foundation Certificate in Business Analysis and BCS Professional Certificate in Stakeholder Engagement; both include the certification examination. Places are limited.\n \nBusiness Analyst of the Year Award 2020. \n
DTSTART:20200922T073000
DTEND:20200922T173000
DTSTAMP:20260419T172359Z
LOCATION:Online
PRIORITY:5
SEQUENCE:0
SUMMARY;LANGUAGE=es-es:Tecnowebinars.com - :: Business Analysis Conference Europe [Live Streaming desde Londres] 2
TRANSP:OPAQUE
UID:9f0f985cfca2703527f7b224593c68b9 Tecnowebinars.com
X-MICROSOFT-CDO-BUSYSTATUS:BUSY
X-MICROSOFT-CDO-IMPORTANCE:1
X-MICROSOFT-DISALLOW-COUNTER:FALSE
X-MS-OLK-ALLOWEXTERNCHECK:TRUE
X-MS-OLK-AUTOFILLLOCATION:FALSE
X-MS-OLK-CONFTYPE:0
BEGIN:VALARM
TRIGGER:-PT1440M
ACTION:DISPLAY
DESCRIPTION:Reminder
END:VALARM
END:VEVENT
END:VCALENDAR
