BEGIN:VCALENDAR
PRODID:-//Microsoft Corporation//Outlook 12.0 MIMEDIR//EN
VERSION:2.0
METHOD:PUBLISH
X-MS-OLK-FORCEINSPECTOROPEN:TRUE
BEGIN:VEVENT
CLASS:PUBLIC
CREATED:20260419T231538Z
DESCRIPTION:VER EL VIDEO\nInterpol emitió  el pasado 5 de abril una alerta global a los cuerpos nacionales de policía de los 194 países miembros de la organización, tras un aumento significativo de intentos de ataques virtuales contra hospitales e instituciones clave en la lucha contra el coronavirus.\nEn su informe correspondiente, en el marco de la pandemia del COVID-19 en el que reconoce que los delincuentes, especialmente los cibercriminales, aprovechan la crisis para adaptar su forma de actuación y participar en nuevas actividades criminales, aumentando las campañas de phishing y ransomware.\nEsto unido a que el Teletrabajo se realiza y se va a realizar preferentemente durante los próximos meses en los domicilios de los empleados, donde las medidas de seguridad existentes son muy escasas, provocará muchas facilidades para los ciberdelincuentes para que logren sus objetivos y la información de las organizaciones quede expuesta.\nEn este webminar pretendemos dar buenas recetas para securizar de forma adecuada los datos de la organización y disponerde una eficiente plataforma de Teletrabajo corporativa.\n                 - Receta 1: Creación de una política de Teletrabajo.\n                 - Receta 2: Realizar una gestión adecuada de los riesgos.\n                 - Receta 3: Personalizar los controles de la ISO 27001 y ENS para nuestra organización\n                 - Receta 4: Gestionar adecuadamente las incidencias.\n                 - Receta 5: Proteger la privacidad de los datos y cumplir con la legislación\n                 - Receta 6: Disponer de un "Plan o mini Plan de Continuidad de Negocio" \n VER EL VIDEO\n
DTSTART:20200526T151500
DTEND:20200526T161500
DTSTAMP:20260419T231538Z
LOCATION:Online
PRIORITY:5
SEQUENCE:0
SUMMARY;LANGUAGE=es-es:Tecnowebinars.com - :: Ciberseguridad en la era del teletrabajo
TRANSP:OPAQUE
UID:f770f2d3a6f101f4e944f5eb126b8130 Tecnowebinars.com
X-MICROSOFT-CDO-BUSYSTATUS:BUSY
X-MICROSOFT-CDO-IMPORTANCE:1
X-MICROSOFT-DISALLOW-COUNTER:FALSE
X-MS-OLK-ALLOWEXTERNCHECK:TRUE
X-MS-OLK-AUTOFILLLOCATION:FALSE
X-MS-OLK-CONFTYPE:0
BEGIN:VALARM
TRIGGER:-PT1440M
ACTION:DISPLAY
DESCRIPTION:Reminder
END:VALARM
END:VEVENT
END:VCALENDAR
