BEGIN:VCALENDAR
PRODID:-//Microsoft Corporation//Outlook 12.0 MIMEDIR//EN
VERSION:2.0
METHOD:PUBLISH
X-MS-OLK-FORCEINSPECTOROPEN:TRUE
BEGIN:VEVENT
CLASS:PUBLIC
CREATED:20260419T225828Z
DESCRIPTION:Companies are moving their analytics workloads to the cloud and modernizing their applications to drive efficiency, productivity, and cost savings by retiring legacy applications and updating their data warehouses. However, to create the most value from these cloud initiatives, organizations need to to be able to quickly identify and easily remediate data quality and format issues across on-premises and multi-cloud environments.\nJoin us to hear thought leaders and innovators on crucial topics, including a live keynote by Jitesh Ghai on why enabling employees to use data effectively is pivotal to a successful cloud strategy. After the keynote, check out our Solution Theater sessions, which offer access to an interview with a partner or customer and a deep-dive product demo:\n \nData Quality for Everyone, Everywhere: See how to democratize trusted data in a hybrid and multi-cloud environment and empower end users through self-service capabilities.\n \nCloud Data Quality for Cloud Data Warehouses: Learn how to institute proven methods for validation, cleansing, and standardization of data to generate market-shaping insights from cloud data warehouses.\n \nAccelerate SaaS Migration and Adoption:Discover how trusted data can speed up migrations, reduce risk and business disruption, increase the value of data when it arrives, and improve user adoption of SaaS applications.\n \nLearn how a microservices-based, next-generation data quality solution enables the people who know the data best to resolve data quality problems themselves.\n
DTSTART:20200506T140000
DTEND:20200506T150000
DTSTAMP:20260419T225828Z
LOCATION:Online
PRIORITY:5
SEQUENCE:0
SUMMARY;LANGUAGE=es-es:Tecnowebinars.com - :: Cloud Data Quality Virtual Summit
TRANSP:OPAQUE
UID:179987bece53b986b92038df4ffbe982 Tecnowebinars.com
X-MICROSOFT-CDO-BUSYSTATUS:BUSY
X-MICROSOFT-CDO-IMPORTANCE:1
X-MICROSOFT-DISALLOW-COUNTER:FALSE
X-MS-OLK-ALLOWEXTERNCHECK:TRUE
X-MS-OLK-AUTOFILLLOCATION:FALSE
X-MS-OLK-CONFTYPE:0
BEGIN:VALARM
TRIGGER:-PT1440M
ACTION:DISPLAY
DESCRIPTION:Reminder
END:VALARM
END:VEVENT
END:VCALENDAR
