BEGIN:VCALENDAR
PRODID:-//Microsoft Corporation//Outlook 12.0 MIMEDIR//EN
VERSION:2.0
METHOD:PUBLISH
X-MS-OLK-FORCEINSPECTOROPEN:TRUE
BEGIN:VEVENT
CLASS:PUBLIC
CREATED:20260419T230716Z
DESCRIPTION:Lean IT, es una filosofía, una forma de pensar y actuar basada en escuchar “la voz del cliente”, con la finalidad de cuidar a los clientes,  escuchar sus necesidades y darles la atención que se merecen.\nEl curso de Lean IT Foundation  es el primer nivel del programa de certificación de Lean IT definido por la Asociación de Lean IT (LITA). Es un requisito obligatorio para el resto de los otros niveles dentro del sistema de certificación.\n \nLean IT es la extensión y adaptación de Lean Manufacturing a entornos TI. Lean IT ayuda a las organizaciones y departamentos TI a proporcionar mejores servicios a sus clientes, eliminando todo aquello que no va dirigido a proporcionar valor, enfocándose en el concepto de valor para el cliente, en la mejora continua de los procesos que proporcionan este valor.\n
DTSTART:20200512T153000
DTEND:20200512T190000
DTSTAMP:20260419T230716Z
LOCATION:Online
PRIORITY:5
SEQUENCE:0
SUMMARY;LANGUAGE=es-es:Tecnowebinars.com - :: Curso Lean It Foundation 2
TRANSP:OPAQUE
UID:04fd41266d33c8d685ac9781f1c5933d Tecnowebinars.com
X-MICROSOFT-CDO-BUSYSTATUS:BUSY
X-MICROSOFT-CDO-IMPORTANCE:1
X-MICROSOFT-DISALLOW-COUNTER:FALSE
X-MS-OLK-ALLOWEXTERNCHECK:TRUE
X-MS-OLK-AUTOFILLLOCATION:FALSE
X-MS-OLK-CONFTYPE:0
BEGIN:VALARM
TRIGGER:-PT1440M
ACTION:DISPLAY
DESCRIPTION:Reminder
END:VALARM
END:VEVENT
END:VCALENDAR
