BEGIN:VCALENDAR
PRODID:-//Microsoft Corporation//Outlook 12.0 MIMEDIR//EN
VERSION:2.0
METHOD:PUBLISH
X-MS-OLK-FORCEINSPECTOROPEN:TRUE
BEGIN:VEVENT
CLASS:PUBLIC
CREATED:20260419T230755Z
DESCRIPTION:Este curso  lo prepara para el examen que lo llevará a la certificación ITIL 4 Specialist: Direct, Plan and Improve. Solo está disponible para certificados en ITIL 4 Foundation.\nEl módulo cubre la influencia y el impacto de las formas de trabajo AGILE y LEAN, y cómo se pueden aprovechar para la ventaja de una organización.\nProporcionará a los profesionales un método práctico y estratégico para planificar y brindar una mejora continua con la utilización de los adecuados marcos de trabajo que se exigen en este entorno tan cambiante.\n
DTSTART:20200515T153000
DTEND:20200515T190000
DTSTAMP:20260419T230755Z
LOCATION:Online
PRIORITY:5
SEQUENCE:0
SUMMARY;LANGUAGE=es-es:Tecnowebinars.com - :: CURSO ITIL 4 SPECIALIST DIRECT PLAN AND IMPROVE 4
TRANSP:OPAQUE
UID:c3a3ff9c174525293b24691a90c2596e Tecnowebinars.com
X-MICROSOFT-CDO-BUSYSTATUS:BUSY
X-MICROSOFT-CDO-IMPORTANCE:1
X-MICROSOFT-DISALLOW-COUNTER:FALSE
X-MS-OLK-ALLOWEXTERNCHECK:TRUE
X-MS-OLK-AUTOFILLLOCATION:FALSE
X-MS-OLK-CONFTYPE:0
BEGIN:VALARM
TRIGGER:-PT1440M
ACTION:DISPLAY
DESCRIPTION:Reminder
END:VALARM
END:VEVENT
END:VCALENDAR
