BEGIN:VCALENDAR
PRODID:-//Microsoft Corporation//Outlook 12.0 MIMEDIR//EN
VERSION:2.0
METHOD:PUBLISH
X-MS-OLK-FORCEINSPECTOROPEN:TRUE
BEGIN:VEVENT
CLASS:PUBLIC
CREATED:20260419T230758Z
DESCRIPTION:ISO/IEC 27001 es el principal estándar para la seguridad de la información. Especifica los requisitos necesarios para establecer, implantar, mantener y mejorar un sistema de gestión de la seguridad de la información (SGSI).\n \nCon la realización de este curso, el asistente al mismo, adquirirá los conocimientos básicos y habilidades para participar en la implementación de un Sistema de Gestión de Seguridad de la Información (SGSI) basado en ISO / IEC 27001.\n \nDuración: 8 horas.\n \nEl curso se impartirá en la modalidad virtual en tiempo real. El Trainer durante estas 8 horas explicará la temática, y estará disponible para los alumnos. Las sesiones se grabarán por si algún alumno no puede asistir a alguna de ellas.\n \nSolicita tu descuento en Tecnowebinars canal IT-Latino\n
DTSTART:20200505T153000
DTEND:20200505T193000
DTSTAMP:20260419T230758Z
LOCATION:Online
PRIORITY:5
SEQUENCE:0
SUMMARY;LANGUAGE=es-es:Tecnowebinars.com - :: Curso de ISO 27001 MANAGER 2
TRANSP:OPAQUE
UID:3c18f2eae5c5631014ea52ad1e76ece3 Tecnowebinars.com
X-MICROSOFT-CDO-BUSYSTATUS:BUSY
X-MICROSOFT-CDO-IMPORTANCE:1
X-MICROSOFT-DISALLOW-COUNTER:FALSE
X-MS-OLK-ALLOWEXTERNCHECK:TRUE
X-MS-OLK-AUTOFILLLOCATION:FALSE
X-MS-OLK-CONFTYPE:0
BEGIN:VALARM
TRIGGER:-PT1440M
ACTION:DISPLAY
DESCRIPTION:Reminder
END:VALARM
END:VEVENT
END:VCALENDAR
