BEGIN:VCALENDAR
PRODID:-//Microsoft Corporation//Outlook 12.0 MIMEDIR//EN
VERSION:2.0
METHOD:PUBLISH
X-MS-OLK-FORCEINSPECTOROPEN:TRUE
BEGIN:VEVENT
CLASS:PUBLIC
CREATED:20260420T002840Z
DESCRIPTION:La ISO 22301 es la norma internacional para la gestión de la continuidad de negocio (GCN). Proporciona una estructura práctica para establecer y gestionar de forma efectiva un sistema de gestión de continuidad de negocio.\n \nCon la realización de este curso, el asistente al mismo, adquirirá los conocimientos básicos y habilidades para participar en la implementación de un Sistema de Gestión de Continuidad de Negocio basado en ISO / IEC 22301.\n \nEl curso se impartirá en la modalidad virtual en tiempo real. El Trainer durante estas 8 horas explicará la temática, y estará disponible para los alumnos. Las sesiones se grabarán por si algún alumno no puede asistir a alguna de ellas.\n \nSolicita tu descuento en Tecnowebinars canal IT-Latino\n
DTSTART:20200428T153000
DTEND:20200428T193000
DTSTAMP:20260420T002840Z
LOCATION:Online
PRIORITY:5
SEQUENCE:0
SUMMARY;LANGUAGE=es-es:Tecnowebinars.com - :: ISO 22301 Continuidad de Negocio 2
TRANSP:OPAQUE
UID:7f3bf6149b4a5368b5e2c9545cafe3e3 Tecnowebinars.com
X-MICROSOFT-CDO-BUSYSTATUS:BUSY
X-MICROSOFT-CDO-IMPORTANCE:1
X-MICROSOFT-DISALLOW-COUNTER:FALSE
X-MS-OLK-ALLOWEXTERNCHECK:TRUE
X-MS-OLK-AUTOFILLLOCATION:FALSE
X-MS-OLK-CONFTYPE:0
BEGIN:VALARM
TRIGGER:-PT1440M
ACTION:DISPLAY
DESCRIPTION:Reminder
END:VALARM
END:VEVENT
END:VCALENDAR
