BEGIN:VCALENDAR
PRODID:-//Microsoft Corporation//Outlook 12.0 MIMEDIR//EN
VERSION:2.0
METHOD:PUBLISH
X-MS-OLK-FORCEINSPECTOROPEN:TRUE
BEGIN:VEVENT
CLASS:PUBLIC
CREATED:20260419T231457Z
DESCRIPTION:Este curso oficial presenta los conceptos generales para la preparación del examen de certificación ITIL Foundation v4.\nLa didáctica de este curso es eminentemente práctica con la realización de numerosos ejercicios tipo test que permiten a los alumnos obtener un conocimiento óptimo que les permitirá superar con éxito el examen oficial de certificación Itil Foundation, que se realizará una vez finalice el curso.\n
DTSTART:20200428T153000
DTEND:20200428T200000
DTSTAMP:20260419T231457Z
LOCATION:Online
PRIORITY:5
SEQUENCE:0
SUMMARY;LANGUAGE=es-es:Tecnowebinars.com - :: Curso ITIL Foundation V4 Oficial 4
TRANSP:OPAQUE
UID:63d65377cd3b083f1f647067dd9e6bf5 Tecnowebinars.com
X-MICROSOFT-CDO-BUSYSTATUS:BUSY
X-MICROSOFT-CDO-IMPORTANCE:1
X-MICROSOFT-DISALLOW-COUNTER:FALSE
X-MS-OLK-ALLOWEXTERNCHECK:TRUE
X-MS-OLK-AUTOFILLLOCATION:FALSE
X-MS-OLK-CONFTYPE:0
BEGIN:VALARM
TRIGGER:-PT1440M
ACTION:DISPLAY
DESCRIPTION:Reminder
END:VALARM
END:VEVENT
END:VCALENDAR
