BEGIN:VCALENDAR
PRODID:-//Microsoft Corporation//Outlook 12.0 MIMEDIR//EN
VERSION:2.0
METHOD:PUBLISH
X-MS-OLK-FORCEINSPECTOROPEN:TRUE
BEGIN:VEVENT
CLASS:PUBLIC
CREATED:20260420T002919Z
DESCRIPTION:Este curso oficial presenta los conceptos generales para la preparación del examen de certificación ITIL Foundation v4.\nLa didáctica de este curso es eminentemente práctica con la realización de numerosos ejercicios tipo test que permiten a los alumnos obtener un conocimiento óptimo que les permitirá superar con éxito el examen oficial de certificación Itil Foundation, que se realizará una vez finalice el curso.\n
DTSTART:20200425T090000
DTEND:20200425T133000
DTSTAMP:20260420T002919Z
LOCATION:Online
PRIORITY:5
SEQUENCE:0
SUMMARY;LANGUAGE=es-es:Tecnowebinars.com - :: Curso ITIL Foundation V4 Oficial 2
TRANSP:OPAQUE
UID:4065caf9c8c16e8cf2c653c9dc9408c2 Tecnowebinars.com
X-MICROSOFT-CDO-BUSYSTATUS:BUSY
X-MICROSOFT-CDO-IMPORTANCE:1
X-MICROSOFT-DISALLOW-COUNTER:FALSE
X-MS-OLK-ALLOWEXTERNCHECK:TRUE
X-MS-OLK-AUTOFILLLOCATION:FALSE
X-MS-OLK-CONFTYPE:0
BEGIN:VALARM
TRIGGER:-PT1440M
ACTION:DISPLAY
DESCRIPTION:Reminder
END:VALARM
END:VEVENT
END:VCALENDAR
