BEGIN:VCALENDAR
PRODID:-//Microsoft Corporation//Outlook 12.0 MIMEDIR//EN
VERSION:2.0
METHOD:PUBLISH
X-MS-OLK-FORCEINSPECTOROPEN:TRUE
BEGIN:VEVENT
CLASS:PUBLIC
CREATED:20260424T105911Z
DESCRIPTION:The Internet of Things (IoT) is the new Wild West of connected devices, creating more data, more endpoints, faster networks and faster business. But how can it make you more successful?\nJoin analyst and Forbes contributor Jason Bloomberg and Software AG’s Navdeep Sidhu to learn:\n- How digital initiatives must connect the customer to back-end enterprise systems\n- How today’s IoT technologies are built to integrate, supporting APIs and standard communication protocols\n- How integration is enabling digital transformation for Software AG’s customers, including Coca-Cola Enterprises, to improve customer experience and save millions\n
DTSTART:20151001T200000
DTEND:20151001T210000
DTSTAMP:20260424T105911Z
LOCATION:Online
PRIORITY:5
SEQUENCE:0
SUMMARY;LANGUAGE=es-es:Tecnowebinars.com - :: Integration + Internet of Things (IoT) = Millions in Savings
TRANSP:OPAQUE
UID:b3da4427fc55a8e289a6806cb8013e86 Tecnowebinars.com
X-MICROSOFT-CDO-BUSYSTATUS:BUSY
X-MICROSOFT-CDO-IMPORTANCE:1
X-MICROSOFT-DISALLOW-COUNTER:FALSE
X-MS-OLK-ALLOWEXTERNCHECK:TRUE
X-MS-OLK-AUTOFILLLOCATION:FALSE
X-MS-OLK-CONFTYPE:0
BEGIN:VALARM
TRIGGER:-PT1440M
ACTION:DISPLAY
DESCRIPTION:Reminder
END:VALARM
END:VEVENT
END:VCALENDAR
