BEGIN:VCALENDAR
PRODID:-//Microsoft Corporation//Outlook 12.0 MIMEDIR//EN
VERSION:2.0
METHOD:PUBLISH
X-MS-OLK-FORCEINSPECTOROPEN:TRUE
BEGIN:VEVENT
CLASS:PUBLIC
CREATED:20260420T003554Z
DESCRIPTION:¡Reúnase con el fundador y CEO de Zoom, Eric S. Yuan, para una sesión de preguntas y respuestas en vivo sobre el futuro de las comunicaciones por video, la hoja de ruta de productos de Zoom y más!\nAquí en Zoom nos esforzamos por mantener nuestro objetivo número uno: brindarles felicidad a todos. El fundador y CEO de Zoom, Eric S. Yuan, quiere saber de ti. Únete a nosotros para una conversación sincera con Eric mientras respondemos sus preguntas en vivo. Zoom ayuda a las empresas y organizaciones a reunir a sus equipos en un entorno de video sin fricciones para optimizar tu trabajo remoto y mantenerse conectados.\nNuestras mejores ideas y las últimas innovaciones provienen de nuestros clientes, nos encantaría saber de ti.\nTener en cuenta: este seminario web es una sesión de preguntas y respuestas en vivo con el fundador y CEO de Zoom, Eric S. Yuan. Este seminario web se realizará en inglés y se interpretará en vivo en francés, alemán, español y portugués.\n
DTSTART:20200422T190000
DTEND:20200422T200000
DTSTAMP:20260420T003554Z
LOCATION:Online
PRIORITY:5
SEQUENCE:0
SUMMARY;LANGUAGE=es-es:Tecnowebinars.com - :: Charla exclusiva con el CEO de Zoom Eric S. Yuan
TRANSP:OPAQUE
UID:d62b4c16043f61527e2a216160818e08 Tecnowebinars.com
X-MICROSOFT-CDO-BUSYSTATUS:BUSY
X-MICROSOFT-CDO-IMPORTANCE:1
X-MICROSOFT-DISALLOW-COUNTER:FALSE
X-MS-OLK-ALLOWEXTERNCHECK:TRUE
X-MS-OLK-AUTOFILLLOCATION:FALSE
X-MS-OLK-CONFTYPE:0
BEGIN:VALARM
TRIGGER:-PT1440M
ACTION:DISPLAY
DESCRIPTION:Reminder
END:VALARM
END:VEVENT
END:VCALENDAR
