BEGIN:VCALENDAR
PRODID:-//Microsoft Corporation//Outlook 12.0 MIMEDIR//EN
VERSION:2.0
METHOD:PUBLISH
X-MS-OLK-FORCEINSPECTOROPEN:TRUE
BEGIN:VEVENT
CLASS:PUBLIC
CREATED:20260420T002804Z
DESCRIPTION:As you may recall, in light of the recent developments surrounding COVID-19, we had decided to make our Spring Analytics Symposium content available virtually so the broader IIA analytics community could benefit.\n \nThe first of a series of three webinars is being presented live tomorrow at 9am PDT / 4pm GMT. All registrants will receive an email with live access in their inbox an hour before the presentation begins, as well as the webinar recording to watch on demand the following day. \n
DTSTART:20200422T180000
DTEND:20200422T190000
DTSTAMP:20260420T002804Z
LOCATION:Online
PRIORITY:5
SEQUENCE:0
SUMMARY;LANGUAGE=es-es:Tecnowebinars.com - :: Operationalizing Al & Machine Learning
TRANSP:OPAQUE
UID:4844fb822ef566aa3bd0276459421b26 Tecnowebinars.com
X-MICROSOFT-CDO-BUSYSTATUS:BUSY
X-MICROSOFT-CDO-IMPORTANCE:1
X-MICROSOFT-DISALLOW-COUNTER:FALSE
X-MS-OLK-ALLOWEXTERNCHECK:TRUE
X-MS-OLK-AUTOFILLLOCATION:FALSE
X-MS-OLK-CONFTYPE:0
BEGIN:VALARM
TRIGGER:-PT1440M
ACTION:DISPLAY
DESCRIPTION:Reminder
END:VALARM
END:VEVENT
END:VCALENDAR
