BEGIN:VCALENDAR
PRODID:-//Microsoft Corporation//Outlook 12.0 MIMEDIR//EN
VERSION:2.0
METHOD:PUBLISH
X-MS-OLK-FORCEINSPECTOROPEN:TRUE
BEGIN:VEVENT
CLASS:PUBLIC
CREATED:20260419T230718Z
DESCRIPTION:As businesses increasingly look to reduce costly paper-based processes and meet the needs of customers, e-signature is becoming an essential component of end-to-end digitization.\nBy moving from wet-ink to electronic signatures, you can remove the final roadblock to elimination of paper and achieve full digital transformation—reducing operational costs and transforming the customer experience.\nDuring this 45-minute webinar, we will demonstrate how e-signing works and our partner, Xeratek, will present how they implemented e-signing to work more efficiently at the world’s busiest airport.Registrants will also receive our ebook “Global E-Signature Law: Best Practices for Assessing Risk”.\n
DTSTART:20200430T110000
DTEND:20200430T120000
DTSTAMP:20260419T230718Z
LOCATION:Online
PRIORITY:5
SEQUENCE:0
SUMMARY;LANGUAGE=es-es:Tecnowebinars.com - :: Firma digital con Kofax
TRANSP:OPAQUE
UID:390b019def424c1f8f8c0a8c620d618e Tecnowebinars.com
X-MICROSOFT-CDO-BUSYSTATUS:BUSY
X-MICROSOFT-CDO-IMPORTANCE:1
X-MICROSOFT-DISALLOW-COUNTER:FALSE
X-MS-OLK-ALLOWEXTERNCHECK:TRUE
X-MS-OLK-AUTOFILLLOCATION:FALSE
X-MS-OLK-CONFTYPE:0
BEGIN:VALARM
TRIGGER:-PT1440M
ACTION:DISPLAY
DESCRIPTION:Reminder
END:VALARM
END:VEVENT
END:VCALENDAR
