BEGIN:VCALENDAR
PRODID:-//Microsoft Corporation//Outlook 12.0 MIMEDIR//EN
VERSION:2.0
METHOD:PUBLISH
X-MS-OLK-FORCEINSPECTOROPEN:TRUE
BEGIN:VEVENT
CLASS:PUBLIC
CREATED:20260419T231452Z
DESCRIPTION:De la mano de Laura Garrido, fundadora de ético, hablaremos sobre los beneficios de la sostenibilidad en la industria del turismo y sobre cómo las empresas pueden adoptar medidas sostenibles para generar entornos más saludables. Un webinar interesantísimo. \n
DTSTART:20200428T180000
DTEND:20200428T190000
DTSTAMP:20260419T231452Z
LOCATION:Online
PRIORITY:5
SEQUENCE:0
SUMMARY;LANGUAGE=es-es:Tecnowebinars.com - :: La sostenibilidad como propuesta de valor en el turismo
TRANSP:OPAQUE
UID:14cab051e80ce550321277dee1ae15b8 Tecnowebinars.com
X-MICROSOFT-CDO-BUSYSTATUS:BUSY
X-MICROSOFT-CDO-IMPORTANCE:1
X-MICROSOFT-DISALLOW-COUNTER:FALSE
X-MS-OLK-ALLOWEXTERNCHECK:TRUE
X-MS-OLK-AUTOFILLLOCATION:FALSE
X-MS-OLK-CONFTYPE:0
BEGIN:VALARM
TRIGGER:-PT1440M
ACTION:DISPLAY
DESCRIPTION:Reminder
END:VALARM
END:VEVENT
END:VCALENDAR
