BEGIN:VCALENDAR
PRODID:-//Microsoft Corporation//Outlook 12.0 MIMEDIR//EN
VERSION:2.0
METHOD:PUBLISH
X-MS-OLK-FORCEINSPECTOROPEN:TRUE
BEGIN:VEVENT
CLASS:PUBLIC
CREATED:20260419T231610Z
DESCRIPTION:Antonio Tapia y Álvaro Badillo, de Overgop by Hoteldataflow, mostrarán como una mala Gestión Financiera puede echar por tierra un negocio, independientemente del GOP que esté generando, y dónde debería focalizar sus esfuerzos la empresa, durante esta hibernación de la operativa.\n
DTSTART:20200427T180000
DTEND:20200427T190000
DTSTAMP:20260419T231610Z
LOCATION:Online
PRIORITY:5
SEQUENCE:0
SUMMARY;LANGUAGE=es-es:Tecnowebinars.com - :: La Gestión Financiera en épocas de Incertidumbre
TRANSP:OPAQUE
UID:eaf2bdb101b3c5359fa54397822e2ecc Tecnowebinars.com
X-MICROSOFT-CDO-BUSYSTATUS:BUSY
X-MICROSOFT-CDO-IMPORTANCE:1
X-MICROSOFT-DISALLOW-COUNTER:FALSE
X-MS-OLK-ALLOWEXTERNCHECK:TRUE
X-MS-OLK-AUTOFILLLOCATION:FALSE
X-MS-OLK-CONFTYPE:0
BEGIN:VALARM
TRIGGER:-PT1440M
ACTION:DISPLAY
DESCRIPTION:Reminder
END:VALARM
END:VEVENT
END:VCALENDAR
