BEGIN:VCALENDAR
PRODID:-//Microsoft Corporation//Outlook 12.0 MIMEDIR//EN
VERSION:2.0
METHOD:PUBLISH
X-MS-OLK-FORCEINSPECTOROPEN:TRUE
BEGIN:VEVENT
CLASS:PUBLIC
CREATED:20260420T003631Z
DESCRIPTION:Un a visión de las nuevas estrategias de revenue management post COVID 19 .\nLa visión de tres profesionales del Revenue management que hablarán de cómo poder adaptarse a las previsibles situaciones a las que nos enfrentaremos .\nJuan Manuel Merino Responsable de estrategias de Revenue management en Paradores , Lluis Sabaté Responsable de revenue Management en Sercotel Hoteles y Simón Barreiro Director Regional de Revenue management en Barcelo Hoteles.\n
DTSTART:20200424T180000
DTEND:20200424T190000
DTSTAMP:20260420T003631Z
LOCATION:Online
PRIORITY:5
SEQUENCE:0
SUMMARY;LANGUAGE=es-es:Tecnowebinars.com - :: El nuevo Revenue Management, Retos del futuro
TRANSP:OPAQUE
UID:5cdf23b5351641130c5b05b34d9b14e4 Tecnowebinars.com
X-MICROSOFT-CDO-BUSYSTATUS:BUSY
X-MICROSOFT-CDO-IMPORTANCE:1
X-MICROSOFT-DISALLOW-COUNTER:FALSE
X-MS-OLK-ALLOWEXTERNCHECK:TRUE
X-MS-OLK-AUTOFILLLOCATION:FALSE
X-MS-OLK-CONFTYPE:0
BEGIN:VALARM
TRIGGER:-PT1440M
ACTION:DISPLAY
DESCRIPTION:Reminder
END:VALARM
END:VEVENT
END:VCALENDAR
