BEGIN:VCALENDAR
PRODID:-//Microsoft Corporation//Outlook 12.0 MIMEDIR//EN
VERSION:2.0
METHOD:PUBLISH
X-MS-OLK-FORCEINSPECTOROPEN:TRUE
BEGIN:VEVENT
CLASS:PUBLIC
CREATED:20260419T231643Z
DESCRIPTION:The recent pandemic is creating unprecedented challenges within the supply chain industry. Many businesses are working to efficiently and quickly drive cost reduction within their supply chains with data and analytics.\nSupply chain optimization and management can bring huge bottom-line savings and efficiency to your organization, yet many still waste hours on outdated solutions. Streamlining your supply chain means managing multiple factors all at once and in real time, including optimizing inventory, and streamlining transportation. \n \nIn this Alteryx Webinar, you will learn how to solve challenges like these with a simple, drag-and-drop based, automatable workflow that leverages the full potential of the supply chain and reduces the risks of a supply shortage. \n \nRegister for now and learn how to:\n \n- Load and prepare data from internal and external sources into Alteryx \n- Influence the success of the supply chain through geo/location analyses, and\n- Create a parameterizable analytical application without the need to code.\n- See how to improve your decision-making speed by altering your ability to prepare, blend, and analyse data, without writing any code or relying on IT. \n- Making a difference in your organization is within reach. Start solving today.\n
DTSTART:20200515T160000
DTEND:20200515T170000
DTSTAMP:20260419T231643Z
LOCATION:Online
PRIORITY:5
SEQUENCE:0
SUMMARY;LANGUAGE=es-es:Tecnowebinars.com - :: Optimiza la Cadena de suministro con la analítica de Alteryx
TRANSP:OPAQUE
UID:67658d64ceacf614672620d22c87fb15 Tecnowebinars.com
X-MICROSOFT-CDO-BUSYSTATUS:BUSY
X-MICROSOFT-CDO-IMPORTANCE:1
X-MICROSOFT-DISALLOW-COUNTER:FALSE
X-MS-OLK-ALLOWEXTERNCHECK:TRUE
X-MS-OLK-AUTOFILLLOCATION:FALSE
X-MS-OLK-CONFTYPE:0
BEGIN:VALARM
TRIGGER:-PT1440M
ACTION:DISPLAY
DESCRIPTION:Reminder
END:VALARM
END:VEVENT
END:VCALENDAR
