BEGIN:VCALENDAR
PRODID:-//Microsoft Corporation//Outlook 12.0 MIMEDIR//EN
VERSION:2.0
METHOD:PUBLISH
X-MS-OLK-FORCEINSPECTOROPEN:TRUE
BEGIN:VEVENT
CLASS:PUBLIC
CREATED:20260419T230850Z
DESCRIPTION:Join us in our next show for a fascinating conversation between Ed Doran, Director of Product Management at Microsoft, known for founding Cortana and Yoav Barel, founder and CEO at Chatbot Summit as they discuss the current state of Voice & Conversational AI, what are the current successful applications of it during the COVID-19 crisis and what are the opportunities and trends moving forward.\n \nIn our upcoming show, you’ll get to hear first hand from Michelle Mullenax, Product & UX Lead, Innovation Team, Head of Conversational AI, on how they successfully update the interaction model of all their chatbots and voice assistants to respond to the COVID-19 crisis and how it's influencing their strategy moving forward.\n
DTSTART:20200430T173000
DTEND:20200430T183000
DTSTAMP:20260419T230850Z
LOCATION:Online
PRIORITY:5
SEQUENCE:0
SUMMARY;LANGUAGE=es-es:Tecnowebinars.com - :: What’s Next for Conversational A.I
TRANSP:OPAQUE
UID:333c1f0d02db553026edc14632263f36 Tecnowebinars.com
X-MICROSOFT-CDO-BUSYSTATUS:BUSY
X-MICROSOFT-CDO-IMPORTANCE:1
X-MICROSOFT-DISALLOW-COUNTER:FALSE
X-MS-OLK-ALLOWEXTERNCHECK:TRUE
X-MS-OLK-AUTOFILLLOCATION:FALSE
X-MS-OLK-CONFTYPE:0
BEGIN:VALARM
TRIGGER:-PT1440M
ACTION:DISPLAY
DESCRIPTION:Reminder
END:VALARM
END:VEVENT
END:VCALENDAR
