BEGIN:VCALENDAR
PRODID:-//Microsoft Corporation//Outlook 12.0 MIMEDIR//EN
VERSION:2.0
METHOD:PUBLISH
X-MS-OLK-FORCEINSPECTOROPEN:TRUE
BEGIN:VEVENT
CLASS:PUBLIC
CREATED:20260420T003736Z
DESCRIPTION:With the downturn of the economy due to the COVID-19 Pandemic, many companies are cutting down on new investments and investors may be looking for a safe haven or finding new opportunities in the public market, is this really the right time to raise money for your Startup? If you are brave enough to do so, what are some do’s and don’t during these times of crisis? \n \nOur upcoming show, “Raising Money in Times of Crisis,” will address these burning questions and more in a conversation between Michael Fertik, Managing Partner at Heroic Ventures also known for founding Reputation.com, and Yoav Barel, Founder of Chabot Summit.\n \nYou are going to hear Fertik’s view on the changing landscape of investments and how evaluations are expected to change in the market. He will draw upon his experience as an investor and provide his own tips and recommendations on what investors are looking for, how companies should fundraise during this time, and he will give his perspective on what types of companies he believes will evolve due to the crisis and how to avoid falling behind.  \n
DTSTART:20200422T173000
DTEND:20200422T183000
DTSTAMP:20260420T003736Z
LOCATION:Online
PRIORITY:5
SEQUENCE:0
SUMMARY;LANGUAGE=es-es:Tecnowebinars.com - :: Raising Money in Times of Crisis Featuring Michael Fertik
TRANSP:OPAQUE
UID:263d2928dfa00ebe600f14c37e535f80 Tecnowebinars.com
X-MICROSOFT-CDO-BUSYSTATUS:BUSY
X-MICROSOFT-CDO-IMPORTANCE:1
X-MICROSOFT-DISALLOW-COUNTER:FALSE
X-MS-OLK-ALLOWEXTERNCHECK:TRUE
X-MS-OLK-AUTOFILLLOCATION:FALSE
X-MS-OLK-CONFTYPE:0
BEGIN:VALARM
TRIGGER:-PT1440M
ACTION:DISPLAY
DESCRIPTION:Reminder
END:VALARM
END:VEVENT
END:VCALENDAR
