BEGIN:VCALENDAR
PRODID:-//Microsoft Corporation//Outlook 12.0 MIMEDIR//EN
VERSION:2.0
METHOD:PUBLISH
X-MS-OLK-FORCEINSPECTOROPEN:TRUE
BEGIN:VEVENT
CLASS:PUBLIC
CREATED:20260419T225913Z
DESCRIPTION:Debido a los efectos devastadores del COVID-19, existe una necesidad urgente de que la sociedad y las empresas actúen con agilidad, resiliencia y unidad.\n \nIBM Think Digital es una oportunidad de colaboración altamente concentrada en 2 días, destinada a ayudarte a acelerar la recuperación y transformación esenciales al tiempo que proporciona la educación técnica que necesitas en estos momentos.\n \nA medida que afrontamos desafíos imprevistos a escala mundial, muchos de nuestros roles de trabajo individuales y objetivos estratégicos también están experimentando cambios significativos. Para ayudarte a navegar la incertidumbre y adaptarte a las condiciones cambiantes, estamos coordinando la orientación, las herramientas y los recursos que necesitas, para que esté todo disponible en un mismo sitio.\n \nÚnete a nosotros el 5 y 6 de mayo para acceder a sesiones de negocio y técnicas relevantes para la recuperación y la resiliencia, retransmitidas en varios canales en paralelo.\n \nDurante estos dos días podrás participar en chats en vivo y sesiones de preguntas y respuestas con los ponentes y expertos, programar reuniones individuales con ejecutivos de IBM y acceder a sesiones bajo demanda que cubren temas esenciales de negocio y tecnología. El acceso a formación técnica, a través de laboratorios prácticos virtuales y certificaciones, también estará disponible durante toda la semana.\n \nExplorarás nuevas formas de trabajar, resolverás los problemas más apremiantes a los que se enfrenta tu empresa y la sociedad, e interactuarás con los expertos que lideran el camino.\n
DTSTART:20200505T170000
DTEND:20200505T210000
DTSTAMP:20260419T225913Z
LOCATION:Online
PRIORITY:5
SEQUENCE:0
SUMMARY;LANGUAGE=es-es:Tecnowebinars.com - :: Think Digital Event Experience
TRANSP:OPAQUE
UID:71d0bdff3117417397b704ea59488c4c Tecnowebinars.com
X-MICROSOFT-CDO-BUSYSTATUS:BUSY
X-MICROSOFT-CDO-IMPORTANCE:1
X-MICROSOFT-DISALLOW-COUNTER:FALSE
X-MS-OLK-ALLOWEXTERNCHECK:TRUE
X-MS-OLK-AUTOFILLLOCATION:FALSE
X-MS-OLK-CONFTYPE:0
BEGIN:VALARM
TRIGGER:-PT1440M
ACTION:DISPLAY
DESCRIPTION:Reminder
END:VALARM
END:VEVENT
END:VCALENDAR
