BEGIN:VCALENDAR
PRODID:-//Microsoft Corporation//Outlook 12.0 MIMEDIR//EN
VERSION:2.0
METHOD:PUBLISH
X-MS-OLK-FORCEINSPECTOROPEN:TRUE
BEGIN:VEVENT
CLASS:PUBLIC
CREATED:20260420T003707Z
DESCRIPTION:Un apasionante debate con tres directivos y comunicadores del más alto nivel y con los que poder hablar sobre el futuro de un sector que crea millones de puestos de trabajo .\nTres opiniones de peso que nos pueden definir cual será el futuro del sector hotelero y de las previsiones que se tienen en estos momentos.\nJavier Tausía, COO Sercotel Hoteles, Rafael Blanquer Director General de Port Hoteles y Juan Carlos San Juan CEO y Fundador de Casual hoteles , no te lo puedes perder.\n
DTSTART:20200423T180000
DTEND:20200423T190000
DTSTAMP:20260420T003707Z
LOCATION:Online
PRIORITY:5
SEQUENCE:0
SUMMARY;LANGUAGE=es-es:Tecnowebinars.com - :: Hacia donde evoluciona el futuro del sector Hotelero
TRANSP:OPAQUE
UID:16a2a780d66b82f1c30a1bf018c48616 Tecnowebinars.com
X-MICROSOFT-CDO-BUSYSTATUS:BUSY
X-MICROSOFT-CDO-IMPORTANCE:1
X-MICROSOFT-DISALLOW-COUNTER:FALSE
X-MS-OLK-ALLOWEXTERNCHECK:TRUE
X-MS-OLK-AUTOFILLLOCATION:FALSE
X-MS-OLK-CONFTYPE:0
BEGIN:VALARM
TRIGGER:-PT1440M
ACTION:DISPLAY
DESCRIPTION:Reminder
END:VALARM
END:VEVENT
END:VCALENDAR
