BEGIN:VCALENDAR
PRODID:-//Microsoft Corporation//Outlook 12.0 MIMEDIR//EN
VERSION:2.0
METHOD:PUBLISH
X-MS-OLK-FORCEINSPECTOROPEN:TRUE
BEGIN:VEVENT
CLASS:PUBLIC
CREATED:20260420T003737Z
DESCRIPTION:Jesús Rodriguez Director de Horwath HTL nos presentará como planifucar la situación Post apertura para todo tipo de alojamiento .\nUnos tips más que necesarios y que serán más que provechosos en la operativa que nos espera en el futuro .\nHacerlo de la mano de un profesional como el es una garantía.\n \n
DTSTART:20200422T180000
DTEND:20200422T190000
DTSTAMP:20260420T003737Z
LOCATION:Online
PRIORITY:5
SEQUENCE:0
SUMMARY;LANGUAGE=es-es:Tecnowebinars.com - :: ¿Dónde Posiciono mi Hotel? La vida hotelera post Covid19
TRANSP:OPAQUE
UID:a025fa94ccf8b9299de46447150f0f69 Tecnowebinars.com
X-MICROSOFT-CDO-BUSYSTATUS:BUSY
X-MICROSOFT-CDO-IMPORTANCE:1
X-MICROSOFT-DISALLOW-COUNTER:FALSE
X-MS-OLK-ALLOWEXTERNCHECK:TRUE
X-MS-OLK-AUTOFILLLOCATION:FALSE
X-MS-OLK-CONFTYPE:0
BEGIN:VALARM
TRIGGER:-PT1440M
ACTION:DISPLAY
DESCRIPTION:Reminder
END:VALARM
END:VEVENT
END:VCALENDAR
