BEGIN:VCALENDAR
PRODID:-//Microsoft Corporation//Outlook 12.0 MIMEDIR//EN
VERSION:2.0
METHOD:PUBLISH
X-MS-OLK-FORCEINSPECTOROPEN:TRUE
BEGIN:VEVENT
CLASS:PUBLIC
CREATED:20260420T003809Z
DESCRIPTION:Tres alojamientos diferentes pero cada uno de ellos con alma propia.\nSaben como hacer que la diferencia sea un valor fundamental en su negocio.\nDaniel Mayo, CEO de viVood, Jorge Álvarez Director del Hotel Gran Bilbao y Antonio Serrano Propietario de Cases Noves.\n
DTSTART:20200421T180000
DTEND:20200421T190000
DTSTAMP:20260420T003809Z
LOCATION:Online
PRIORITY:5
SEQUENCE:0
SUMMARY;LANGUAGE=es-es:Tecnowebinars.com - :: Alojamientos singulares, como dotarlos de personalidad
TRANSP:OPAQUE
UID:23f0a43be281279a055c3d8666be6a41 Tecnowebinars.com
X-MICROSOFT-CDO-BUSYSTATUS:BUSY
X-MICROSOFT-CDO-IMPORTANCE:1
X-MICROSOFT-DISALLOW-COUNTER:FALSE
X-MS-OLK-ALLOWEXTERNCHECK:TRUE
X-MS-OLK-AUTOFILLLOCATION:FALSE
X-MS-OLK-CONFTYPE:0
BEGIN:VALARM
TRIGGER:-PT1440M
ACTION:DISPLAY
DESCRIPTION:Reminder
END:VALARM
END:VEVENT
END:VCALENDAR
