BEGIN:VCALENDAR
PRODID:-//Microsoft Corporation//Outlook 12.0 MIMEDIR//EN
VERSION:2.0
METHOD:PUBLISH
X-MS-OLK-FORCEINSPECTOROPEN:TRUE
BEGIN:VEVENT
CLASS:PUBLIC
CREATED:20260420T003926Z
DESCRIPTION:Webinar dedicado a la introducción al software eMMA y todas las soluciones que ofrece para la gestión de la calidad:\n \n•	Gestión de proyectos desde simples piezas hasta complejos ensamblajes.\n•	Control del versionado de los planes de inspección asociado al modelo CAD.\n•	Conseguir la integración del flujo de trabajo desde la inspección inicial hasta la supervisión de la producción, pasando por montaje y ensamblado.\n•	Intercambio transparente de datos entre diferentes softwares de medición y simulación.\n•	Mejorar la colaboración interna y global entre departamentos y plantas, además de la coordinación con proveedores. \n \nPrincipales aplicaciones:\n \n•	Mejora la calidad del producto mediante el control de versionado y la trazabilidad de las piezas medidas.\n•	Sistema de análisis tanto mediciones táctiles como ópticas\n•	Ensamblado virtual a través de mediciones ópticas y simulaciones realizadas.\n•	Facilita la toma de decisiones mediante la monitorización de alarmas e incidencias.\n \n¿A quién va dirigido? \n \nResponsables y operarios de departamentos de Metrología, Calidad y Producción.\n
DTSTART:20200423T110000
DTEND:20200423T120000
DTSTAMP:20260420T003926Z
LOCATION:Online
PRIORITY:5
SEQUENCE:0
SUMMARY;LANGUAGE=es-es:Tecnowebinars.com - :: Calidad en el diseño industrial con Hexagon eMMA
TRANSP:OPAQUE
UID:46ffb5fb251b379371266597fb52bf10 Tecnowebinars.com
X-MICROSOFT-CDO-BUSYSTATUS:BUSY
X-MICROSOFT-CDO-IMPORTANCE:1
X-MICROSOFT-DISALLOW-COUNTER:FALSE
X-MS-OLK-ALLOWEXTERNCHECK:TRUE
X-MS-OLK-AUTOFILLLOCATION:FALSE
X-MS-OLK-CONFTYPE:0
BEGIN:VALARM
TRIGGER:-PT1440M
ACTION:DISPLAY
DESCRIPTION:Reminder
END:VALARM
END:VEVENT
END:VCALENDAR
