BEGIN:VCALENDAR
PRODID:-//Microsoft Corporation//Outlook 12.0 MIMEDIR//EN
VERSION:2.0
METHOD:PUBLISH
X-MS-OLK-FORCEINSPECTOROPEN:TRUE
BEGIN:VEVENT
CLASS:PUBLIC
CREATED:20260420T003808Z
DESCRIPTION:Webinar dedicado al conocimiento de la norma ISO 10360-2 utilizada para la aceptación y verificación periódica de máquinas de medición por coordenadas.\nLos asistentes tendrán la oportunidad de conocer los términos, definiciones y procedimiento de la norma ISO 10360-2 utilizada para la aceptación y verificación periódica de máquinas de medición por coordenadas\n \n¿Quiénes deben asistir?\n \nDirigido a metrólogos, responsables de calidad, responsables de producción, gerentes y personas que quieran tener información acerca de los términos, definiciones y procedimiento de la norma ISO 10360-2 utilizada para la aceptación y verificación periódica de máquinas de medición por coordenadas\n \n¿Por qué deben asistir?\n \nResulta importante entender el estándar europeo más utilizado para realizar las pruebas de aceptación y verificación periódica de máquinas de medición por coordenadas, poder conocer en cualquier momento el estado metrológico de nuestro sistema de medición por coordenadas y tomar las medidas oportunas al respecto para poder mejorar y contribuir a nuestro sistema productivo y de calidad.\n \n
DTSTART:20200422T110000
DTEND:20200422T120000
DTSTAMP:20260420T003808Z
LOCATION:Online
PRIORITY:5
SEQUENCE:0
SUMMARY;LANGUAGE=es-es:Tecnowebinars.com - :: Términos, definiciones y procedimientos en la norma ISO 10360-2
TRANSP:OPAQUE
UID:515ca246a6a790722664829589025ab3 Tecnowebinars.com
X-MICROSOFT-CDO-BUSYSTATUS:BUSY
X-MICROSOFT-CDO-IMPORTANCE:1
X-MICROSOFT-DISALLOW-COUNTER:FALSE
X-MS-OLK-ALLOWEXTERNCHECK:TRUE
X-MS-OLK-AUTOFILLLOCATION:FALSE
X-MS-OLK-CONFTYPE:0
BEGIN:VALARM
TRIGGER:-PT1440M
ACTION:DISPLAY
DESCRIPTION:Reminder
END:VALARM
END:VEVENT
END:VCALENDAR
