BEGIN:VCALENDAR
PRODID:-//Microsoft Corporation//Outlook 12.0 MIMEDIR//EN
VERSION:2.0
METHOD:PUBLISH
X-MS-OLK-FORCEINSPECTOROPEN:TRUE
BEGIN:VEVENT
CLASS:PUBLIC
CREATED:20260420T003629Z
DESCRIPTION:En este webinar explicaremos el concepto y el flujo de trabajo para conseguir llegar a lo que en Hexagon llamamos la Smart Factory. La industria 4.0 permite un avance significativo en productividad y eficiencia, siendo la información dimensional 3D es una variable clave imprescindible para conseguirlo.\n \nLos procesos productivos son cada vez más variables y necesitan adaptarse a unas gamas de producto amplias, por lo que deben ser muy flexibles. Con estos requerimientos es imprescindible que los procesos sean eficaces desde el inicio y que se vayan corrigiendo para ser siempre productivos, es lo que llamamos Industria 4.0.\n \nTodo ello requiere una base: la información digital, en este caso, la información 3D que permite virtualizar la situación en cada momento. Pero igual de importante será de que forma organizamos esta información para poder decidir las acciones que garanticen la eficacia. \n \n¿Quiénes deben asistir?\n \nLa evolución a la industria 4.0 es una decisión estratégica de cada compañía y requiere de la adaptación de todos los procesos. Este webinar está orientado a todas las personas de la dirección de la empresa y a los managers con participación en las decisiones tanto estratégicas como operativas.\n
DTSTART:20200421T110000
DTEND:20200421T120000
DTSTAMP:20260420T003629Z
LOCATION:Online
PRIORITY:5
SEQUENCE:0
SUMMARY;LANGUAGE=es-es:Tecnowebinars.com - :: Información dimensional 3D en la industria 4.0 según Hexagon España
TRANSP:OPAQUE
UID:047f99fe9b68a10b9008d7025894d513 Tecnowebinars.com
X-MICROSOFT-CDO-BUSYSTATUS:BUSY
X-MICROSOFT-CDO-IMPORTANCE:1
X-MICROSOFT-DISALLOW-COUNTER:FALSE
X-MS-OLK-ALLOWEXTERNCHECK:TRUE
X-MS-OLK-AUTOFILLLOCATION:FALSE
X-MS-OLK-CONFTYPE:0
BEGIN:VALARM
TRIGGER:-PT1440M
ACTION:DISPLAY
DESCRIPTION:Reminder
END:VALARM
END:VEVENT
END:VCALENDAR
