BEGIN:VCALENDAR
PRODID:-//Microsoft Corporation//Outlook 12.0 MIMEDIR//EN
VERSION:2.0
METHOD:PUBLISH
X-MS-OLK-FORCEINSPECTOROPEN:TRUE
BEGIN:VEVENT
CLASS:PUBLIC
CREATED:20260419T225913Z
DESCRIPTION:Choosing the right architecture for highly and fully automotive driving is a bet on the future of the industry and the success of your company. Where speed to market is critical, a platform that supports rapid development, a wide variety of future use cases and massive data flows is imperative.\nYou don’t have time to re-engineer the underlying architecture when new use cases are introduced, or performance requirements are changed. For the path forward with the lowest risk, choose an architecture framework that has been proven for the application, and can be used to interface with your ecosystem. \nIn this session, we will explore how DDS has been deployed for decades in autonomy use cases and how it is being used in the AUTOSAR and ROS frameworks. You will learn how to develop an autonomous vehicle technology architecture that meets high performance requirements while ensuring the system is built for future scale. \n
DTSTART:20200514T200000
DTEND:20200514T210000
DTSTAMP:20260419T225913Z
LOCATION:Online
PRIORITY:5
SEQUENCE:0
SUMMARY;LANGUAGE=es-es:Tecnowebinars.com - :: How to Select a Future-Proof Autonomous Vehicle Software Integration Framework
TRANSP:OPAQUE
UID:bf39b9add4461318de81e52b2d75b880 Tecnowebinars.com
X-MICROSOFT-CDO-BUSYSTATUS:BUSY
X-MICROSOFT-CDO-IMPORTANCE:1
X-MICROSOFT-DISALLOW-COUNTER:FALSE
X-MS-OLK-ALLOWEXTERNCHECK:TRUE
X-MS-OLK-AUTOFILLLOCATION:FALSE
X-MS-OLK-CONFTYPE:0
BEGIN:VALARM
TRIGGER:-PT1440M
ACTION:DISPLAY
DESCRIPTION:Reminder
END:VALARM
END:VEVENT
END:VCALENDAR
