BEGIN:VCALENDAR
PRODID:-//Microsoft Corporation//Outlook 12.0 MIMEDIR//EN
VERSION:2.0
METHOD:PUBLISH
X-MS-OLK-FORCEINSPECTOROPEN:TRUE
BEGIN:VEVENT
CLASS:PUBLIC
CREATED:20260420T002936Z
DESCRIPTION:This webinar will discuss proven approaches and best practices for manufacturing companies to address and reduce the “Six Big Losses” in an era where workforces are impacted by no travel and required social distancing.\nHear from Augmentir how its Connected Worker Platform is using AI to empower workers to make faster, better decisions, and safely connecting them through remote collaboration technology to ensure equipment-based productivity losses are minimized.\n \nAlso hear from Bootleg Advisors, in partnership with Augmentir, on how their curated solutions can bring together content and a company’s SME network to help uncover productivity improvement opportunities, reduce costs, reduce risk, and allow organizations to execute effectively ensure a minimum of a 9:1 ROI with a near immediate return.\n
DTSTART:20200423T200000
DTEND:20200423T210000
DTSTAMP:20260420T002936Z
LOCATION:Online
PRIORITY:5
SEQUENCE:0
SUMMARY;LANGUAGE=es-es:Tecnowebinars.com - :: Augmentir: AI-Powered Connected Worker platform for industrial companies
TRANSP:OPAQUE
UID:6eca44fa7df5fcbd5b56f6114c357f88 Tecnowebinars.com
X-MICROSOFT-CDO-BUSYSTATUS:BUSY
X-MICROSOFT-CDO-IMPORTANCE:1
X-MICROSOFT-DISALLOW-COUNTER:FALSE
X-MS-OLK-ALLOWEXTERNCHECK:TRUE
X-MS-OLK-AUTOFILLLOCATION:FALSE
X-MS-OLK-CONFTYPE:0
BEGIN:VALARM
TRIGGER:-PT1440M
ACTION:DISPLAY
DESCRIPTION:Reminder
END:VALARM
END:VEVENT
END:VCALENDAR
