BEGIN:VCALENDAR
PRODID:-//Microsoft Corporation//Outlook 12.0 MIMEDIR//EN
VERSION:2.0
METHOD:PUBLISH
X-MS-OLK-FORCEINSPECTOROPEN:TRUE
BEGIN:VEVENT
CLASS:PUBLIC
CREATED:20260420T002803Z
DESCRIPTION:To succeed as an asset-intensive manufacturer, you need to ensure that your equipment and machines are always available. You need a robust maintenance program that can keep your critical equipment always running in top condition and can identify potential downtime causing issues before they occur.\nFor most manufacturers, though, understanding the state of their machines and which ones are about to fail is a challenging task. The traditional legacy and on-premises software solutions most manufacturers use do not have the capabilities required to monitor and predict machine failure.\n \nIn order to upgrade their maintenance intelligence, leading edge manufacturers are turning to cloud solutions that offer truly unique and valuable new predictive capabilities. Join this webinar, and you will hear directly from manufacturers about what the move to cloud and IoT solutions has meant to their maintenance program and specifically the new possibilities the cloud has for them.\n
DTSTART:20200428T200000
DTEND:20200428T210000
DTSTAMP:20260420T002803Z
LOCATION:Online
PRIORITY:5
SEQUENCE:0
SUMMARY;LANGUAGE=es-es:Tecnowebinars.com - :: Potenciando el mantenimiento con el Cloud e IoT
TRANSP:OPAQUE
UID:25593634127047df0d01fab5f271bb3b Tecnowebinars.com
X-MICROSOFT-CDO-BUSYSTATUS:BUSY
X-MICROSOFT-CDO-IMPORTANCE:1
X-MICROSOFT-DISALLOW-COUNTER:FALSE
X-MS-OLK-ALLOWEXTERNCHECK:TRUE
X-MS-OLK-AUTOFILLLOCATION:FALSE
X-MS-OLK-CONFTYPE:0
BEGIN:VALARM
TRIGGER:-PT1440M
ACTION:DISPLAY
DESCRIPTION:Reminder
END:VALARM
END:VEVENT
END:VCALENDAR
