BEGIN:VCALENDAR
PRODID:-//Microsoft Corporation//Outlook 12.0 MIMEDIR//EN
VERSION:2.0
METHOD:PUBLISH
X-MS-OLK-FORCEINSPECTOROPEN:TRUE
BEGIN:VEVENT
CLASS:PUBLIC
CREATED:20260419T231538Z
DESCRIPTION:The recent collapse in operating margins has made it very clear that operational excellence for oil and gas companies is no longer an option – it’s a mandate. Yet while most oil and gas companies will struggle under current market conditions, the innovators will increase their efficiency, agility and productivity - positioning themselves for the future.\n \nThe mandate for the oil and gas industry now? Ensure your cost structure is the lowest and your operational execution is the highest.\n \nThis is your opportunity to make the most of a difficult situation to build a stronger organization. Join us at Operational Excellence in Oil & Gas Online, taking place May 19th to the 21st.\n \nKey themes include how to:\n \n- Enhance Operational Resilience and Build a Culture of Operational Excellence.\n- Find Untapped Cost Efficiencies NOW.\n- Scale Operational Improvement Initiatives Quickly.\n- Accelerate Digital Transformation and Innovation.\n- Increase Safety and Reduce Operational Risk.\n- Drive Bottom Line Savings through Intelligent Automation.\n- Make the commitment to operational excellence today and emerge lean, agile and more competitive tomorrow.\n
DTSTART:20200519T150000
DTEND:20200519T190000
DTSTAMP:20260419T231538Z
LOCATION:Online
PRIORITY:5
SEQUENCE:0
SUMMARY;LANGUAGE=es-es:Tecnowebinars.com - :: Automatización de procesos en el sector petrolero / 1
TRANSP:OPAQUE
UID:01b4dcea474daffef671b3390ac865fb Tecnowebinars.com
X-MICROSOFT-CDO-BUSYSTATUS:BUSY
X-MICROSOFT-CDO-IMPORTANCE:1
X-MICROSOFT-DISALLOW-COUNTER:FALSE
X-MS-OLK-ALLOWEXTERNCHECK:TRUE
X-MS-OLK-AUTOFILLLOCATION:FALSE
X-MS-OLK-CONFTYPE:0
BEGIN:VALARM
TRIGGER:-PT1440M
ACTION:DISPLAY
DESCRIPTION:Reminder
END:VALARM
END:VEVENT
END:VCALENDAR
