BEGIN:VCALENDAR
PRODID:-//Microsoft Corporation//Outlook 12.0 MIMEDIR//EN
VERSION:2.0
METHOD:PUBLISH
X-MS-OLK-FORCEINSPECTOROPEN:TRUE
BEGIN:VEVENT
CLASS:PUBLIC
CREATED:20260419T200807Z
DESCRIPTION:VER VIDEO\nLa gestión de una crisis es parte del ciclo de vida de una empresa, y poder superar con éxito una emergencia como la que actualmente afecta a organizaciones de todo el mundo, es lo que va a distinguir a las organizaciones que la puedan superar, de las que por desgracia no sean capaces de hacerlo.\nLas pandemias, el cambio climático, las crisis económicas y las tendencias de consumo son sólo algunas de las amenazas que actualmente pueden afectar dramáticamente a la manera en que una organización hace negocios y sobrevive.\nLa resiliencia organizacional es la capacidad de una empresa para absorber y adaptarse a la imprevisibilidad sin dejar de cumplir con los objetivos que hay que alcanzar. La norma ISO 22316, es la que proporciona las pautas para una adecuada implementación de la Resiliencia Organizacional en las empresas.\nPor otro lado el tener bien definida y probada en la organización una estrategía de Continuidad de Negocio, es clave para que la empresa pueda enfrentarse con éxito a las amenazas que la acechan continuamente. En este aspecto la norma internacional más utilizada en Continuidad de Negocio es la ISO 22301.\nEn este webinar, vamos a plantear como implementar con éxito una estrategía de continuidad de Negocio según la ISO 22301, integrada con la gestión de resiliencia organizacional, según la ISO 22316.\n1.- El COVIT-2019 un antes y un después para las organizaciones\n2.- Ciberamenazas en situación de Teletrabajo\n3.- Diseño de una eficaz gestión de riesgos de la organización\n4.- Resiliencia Organizacional, ISO 22316\n5.- El plan de Continuidad de Negocio, como elemento vertebrador. ISO 22301\n6. - Conclusiones \nVER VIDEO\n \n
DTSTART:20200702T173000
DTEND:20200702T183000
DTSTAMP:20260419T200807Z
LOCATION:Online
PRIORITY:5
SEQUENCE:0
SUMMARY;LANGUAGE=es-es:Tecnowebinars.com - :: Continuidad de Negocio y Resiliencia Organizacional para la supervivencia del Negocio
TRANSP:OPAQUE
UID:7b08a988c962a99fcd16173568f6d3ab Tecnowebinars.com
X-MICROSOFT-CDO-BUSYSTATUS:BUSY
X-MICROSOFT-CDO-IMPORTANCE:1
X-MICROSOFT-DISALLOW-COUNTER:FALSE
X-MS-OLK-ALLOWEXTERNCHECK:TRUE
X-MS-OLK-AUTOFILLLOCATION:FALSE
X-MS-OLK-CONFTYPE:0
BEGIN:VALARM
TRIGGER:-PT1440M
ACTION:DISPLAY
DESCRIPTION:Reminder
END:VALARM
END:VEVENT
END:VCALENDAR
