BEGIN:VCALENDAR
PRODID:-//Microsoft Corporation//Outlook 12.0 MIMEDIR//EN
VERSION:2.0
METHOD:PUBLISH
X-MS-OLK-FORCEINSPECTOROPEN:TRUE
BEGIN:VEVENT
CLASS:PUBLIC
CREATED:20260419T225828Z
DESCRIPTION:Chatbot Summit Vegas is Going Virtual With Grapple\nA Video First Conference Network which we’re building from the ground up! On May 13-14th, ( the dates stay the same!), you will have the opportunity to join thousands of attendees and hundreds of community partners & startups and learn from the leading brands!\nOur learning formats will span across 5 different stages and you’ll have the opportunity to join 5 min keynotes to 1.5 hour long workshops and roundtable discussions.\nYou’ll also have a chance to connect 1:1 on curated video meetings with fellow colleagues , partners and customers from the world’s top brands,\n \nWe are also going to make available dozens of live virtual booths where you can play with demos of the latest developments in conversational experiences from chat to voice and video, based on the latest AI Technologies.\n \nVirtual Roundtable\n \nSince our workshops are so popular, we are debuting virtual roundtables to give you another chance to learn and connect with other professionals! Roundtables will be facilitated by leading experts spanning across a wide range of fields covering exciting use cases and industries in conversational banking, conversational commerce and conversational marketing.\n \nRoundtables give you a chance to discuss your most pressing questions and learn about what the leading industry experts are doing in this field. It allows you to engage in stimulating conversation with other professionals, learn about their experiences and connect with them virtually. You can learn a lot just by hearing other professionals' experiences!\n \nVirtual Workshops\n \nWorkshops are a favorite of Chatbot Summit Attendees so we are doing everything we can to bring you the same interactive experience online! They are designed to be deep-dive sessions ranging between 90-180 minutes and suitable for both beginners, intermediate and advanced.\n \n \nYou will not have to worry about feeling lost because we have limited registration access to ensure you will get the same hands-on experience as in-person.\n \nYou will be able to ask the workshop leaders questions throughout the entire experience via the Zoom Chat feature as they provide you with the most significant learnings and practical tools that can be applied to your own work! Be prepared to learn because workshops include a mixture of online presentations, interactive activities, and ample time for Q&A. Our goal is that you leave feeling enriched, inspired, and ready to tackle your own solutions!\n \n1:1 Meetings\n \nWe are offering 1:1 video meetings where you can personally invite anyone you would like to meet with to have meaningful connections with other professionals, partners, customers, and technology experts on a 1:1 basis.\n \nThese meetings will be topic-related and last 15 minutes and can be taken from the comfort of your own home and around your own schedule. Our team at Chatbot Summit is also offering the option to have curated meetings where we will make personal introductions to connect you with other professionals we believe will be most beneficial to you in expanding your network!\n \nJust because we can’t meet in person, doesn’t mean we have to stop making meaningful connections.\n
DTSTART:20200513T143000
DTEND:20200513T040000
DTSTAMP:20260419T225828Z
LOCATION:Online
PRIORITY:5
SEQUENCE:0
SUMMARY;LANGUAGE=es-es:Tecnowebinars.com - :: Chatbot Summit Vegas 1
TRANSP:OPAQUE
UID:2279ca86f3c2fe113fad3565ed6abaa4 Tecnowebinars.com
X-MICROSOFT-CDO-BUSYSTATUS:BUSY
X-MICROSOFT-CDO-IMPORTANCE:1
X-MICROSOFT-DISALLOW-COUNTER:FALSE
X-MS-OLK-ALLOWEXTERNCHECK:TRUE
X-MS-OLK-AUTOFILLLOCATION:FALSE
X-MS-OLK-CONFTYPE:0
BEGIN:VALARM
TRIGGER:-PT1440M
ACTION:DISPLAY
DESCRIPTION:Reminder
END:VALARM
END:VEVENT
END:VCALENDAR
