BEGIN:VCALENDAR
PRODID:-//Microsoft Corporation//Outlook 12.0 MIMEDIR//EN
VERSION:2.0
METHOD:PUBLISH
X-MS-OLK-FORCEINSPECTOROPEN:TRUE
BEGIN:VEVENT
CLASS:PUBLIC
CREATED:20260420T002742Z
DESCRIPTION:Application Architecture Summit is a multi-vendor online event where experts explore application platforms, frameworks and tools for low-hassle and light-speed app development, testing, delivery and security.\n \nTopics to include:\n \nAPIs & Microservices - To Fuel Innovation\n \nToday's apps increasingly rely on APIs and microservices for agile access to data, security, and 100s of innovative cloud-based servicers. Learn 2020's best practices for using and managing APIs.\n \nLow-Code Development - For Fast Omnichannel Apps\n \nAlign developers and IT ops. Speed the new agile app lifecycle - from design, test, launch, orchestrate & management.\n \nRPA - Automating your Apps and Process Flows\n \nStreamline complex processes with robotic process automation and visual UIs. Build end-to-end process-es & apps across legacy, on-prem and cloud.\n \nKubernetes - Containers and Serverless\n \nMany companies are embrac-ing cloud-native architectures. Explore how F2000s leverage these along-side valuable legacy apps, data and other assets.\n \nDevOps - Enterprise-Class is Here\n \nBuild or migrate mobile, web and omni apps for cloud-native, multi-cloud or hybrid environments. Avoid vendor lock-in.\n \nMachine Learning - AI for Smarter, Stickier Apps\n \nLearn how firms use AI/ML to improve testing, user experience, security and more.\n
DTSTART:20200423T190000
DTEND:20200423T220000
DTSTAMP:20260420T002742Z
LOCATION:Online
PRIORITY:5
SEQUENCE:0
SUMMARY;LANGUAGE=es-es:Tecnowebinars.com - :: Modern Application Development for Digital Transformation
TRANSP:OPAQUE
UID:2e2859d96167725f36636bd4e0a4a094 Tecnowebinars.com
X-MICROSOFT-CDO-BUSYSTATUS:BUSY
X-MICROSOFT-CDO-IMPORTANCE:1
X-MICROSOFT-DISALLOW-COUNTER:FALSE
X-MS-OLK-ALLOWEXTERNCHECK:TRUE
X-MS-OLK-AUTOFILLLOCATION:FALSE
X-MS-OLK-CONFTYPE:0
BEGIN:VALARM
TRIGGER:-PT1440M
ACTION:DISPLAY
DESCRIPTION:Reminder
END:VALARM
END:VEVENT
END:VCALENDAR
