BEGIN:VCALENDAR
PRODID:-//Microsoft Corporation//Outlook 12.0 MIMEDIR//EN
VERSION:2.0
METHOD:PUBLISH
X-MS-OLK-FORCEINSPECTOROPEN:TRUE
BEGIN:VEVENT
CLASS:PUBLIC
CREATED:20260419T231459Z
DESCRIPTION:VER VIDEO\nProporcionaremos un detallado entendimiento de los conceptos principales y definiciones para aprender más acerca de esta metodología que ayuda a promover la innovación empresarial de una manera exitosa, entendiendo esta disciplina que tiene como objetivo promocionar un proceso o cultura de iniciativas que se enfoquen en cambios disruptivos o pasos que transforman el negocio de forma significativa.\nDirigido a:\nCualquiera interesado en expandir sus conocimientos en Innovation Management y quiera implementar nuevas herramientas para desarrollar cualquier tipo de proyecto, producto o servicio que cumplan las necesidades reales de las personas mediante la innovación.\nVER VIDEO\n
DTSTART:20200519T160000
DTEND:20200519T170000
DTSTAMP:20260419T231459Z
LOCATION:Online
PRIORITY:5
SEQUENCE:0
SUMMARY;LANGUAGE=es-es:Tecnowebinars.com - :: Innovación Management. Innovar en tiempos de incertidumbre.
TRANSP:OPAQUE
UID:bec3b2a862f7d2bd8d0f1ba82023b0fa Tecnowebinars.com
X-MICROSOFT-CDO-BUSYSTATUS:BUSY
X-MICROSOFT-CDO-IMPORTANCE:1
X-MICROSOFT-DISALLOW-COUNTER:FALSE
X-MS-OLK-ALLOWEXTERNCHECK:TRUE
X-MS-OLK-AUTOFILLLOCATION:FALSE
X-MS-OLK-CONFTYPE:0
BEGIN:VALARM
TRIGGER:-PT1440M
ACTION:DISPLAY
DESCRIPTION:Reminder
END:VALARM
END:VEVENT
END:VCALENDAR
