BEGIN:VCALENDAR
PRODID:-//Microsoft Corporation//Outlook 12.0 MIMEDIR//EN
VERSION:2.0
METHOD:PUBLISH
X-MS-OLK-FORCEINSPECTOROPEN:TRUE
BEGIN:VEVENT
CLASS:PUBLIC
CREATED:20260420T003632Z
DESCRIPTION:Automatización inteligente en 2020: estrategias para adaptarse a unos cambios cada vez más repentinos\nLa automatización influye en todas las personas, organizaciones y economías. Las tecnologías emergentes son capaces de sacudir todos los sectores.\n¿Cómo pueden los líderes asegurarse de que sus organizaciones y personal están preparados para superar esta época de cambio?\nRegístrese hoy mismo para ver cómo una plataforma de automatización inteligente con capacidades de inteligencia artificial permite que organizaciones escalen sus actividades de transformación digital en la empresa, ofrecer rentabilidad a largo plazo y cumplir los principios fundamentales de su marca.\nEstos son algunos de los puntos más destacados:\n- Apertura con apuntes de Francisco Perez, comercial para España, y una presentatción por Chris Huff, responsable de la estrategia de Kofax, titulada «The Intelligent Enterprise» (La empresa dotada de automatización intelligente).\n- Casos reales de clientes y presentación de la plataforma de automatización inteligente en la práctica.\n- Demostración: aproveche la inteligencia artificial para automatizar la apertura de nuevas cuentas y optimizar la experiencia del cliente.\n
DTSTART:20200421T100000
DTEND:20200421T110000
DTSTAMP:20260420T003632Z
LOCATION:Online
PRIORITY:5
SEQUENCE:0
SUMMARY;LANGUAGE=es-es:Tecnowebinars.com - :: Automatización Inteligente con Kofax
TRANSP:OPAQUE
UID:3c528f6c56dcae983fee84753e344731 Tecnowebinars.com
X-MICROSOFT-CDO-BUSYSTATUS:BUSY
X-MICROSOFT-CDO-IMPORTANCE:1
X-MICROSOFT-DISALLOW-COUNTER:FALSE
X-MS-OLK-ALLOWEXTERNCHECK:TRUE
X-MS-OLK-AUTOFILLLOCATION:FALSE
X-MS-OLK-CONFTYPE:0
BEGIN:VALARM
TRIGGER:-PT1440M
ACTION:DISPLAY
DESCRIPTION:Reminder
END:VALARM
END:VEVENT
END:VCALENDAR
