BEGIN:VCALENDAR
PRODID:-//Microsoft Corporation//Outlook 12.0 MIMEDIR//EN
VERSION:2.0
METHOD:PUBLISH
X-MS-OLK-FORCEINSPECTOROPEN:TRUE
BEGIN:VEVENT
CLASS:PUBLIC
CREATED:20260419T231453Z
DESCRIPTION:VER VIDEO\nAunque Scrum es el marco de trabajo Ágil más conocido para desarrollar y gestionar proyectos de software, es mucho más que eso. En un sentido más amplio y no limitado al ámbito del desarrollo de software, scrum puede funcionar como un acelerador de negocios, un sistema integrado de gestión del riesgo, y una herramienta de gestión de equipos.\nLos negocios, el marketing, las ventas, la educación y la gestión del cambio son solo algunos de los ámbitos en los que ya se está empleando scrum, o alguna variación de este. Si quieres mejorar el funcionamiento de cualquier negocio, o mejorar la productividad de cualquier equipo, tienes que saber de qué hablamos.\nDirigido a:\nCualquier persona que tenga la oportunidad de participar en un proyecto que opte por la agilidad como marco de gestión para entregar a los clientes, internos o externos, productos de valor creciente mediante entregas iterativas y frecuentes de versiones sucesivas, con independencia de cuál sea la responsabilidad o rol desempeñado en el seno del equipo.   \nVER VIDEO  \n
DTSTART:20200514T153000
DTEND:20200514T163000
DTSTAMP:20260419T231453Z
LOCATION:Online
PRIORITY:5
SEQUENCE:0
SUMMARY;LANGUAGE=es-es:Tecnowebinars.com - :: Agilidad y SCRUM más allá del ámbito del software.
TRANSP:OPAQUE
UID:4ef6a4519649135a2e1665ed9ecda506 Tecnowebinars.com
X-MICROSOFT-CDO-BUSYSTATUS:BUSY
X-MICROSOFT-CDO-IMPORTANCE:1
X-MICROSOFT-DISALLOW-COUNTER:FALSE
X-MS-OLK-ALLOWEXTERNCHECK:TRUE
X-MS-OLK-AUTOFILLLOCATION:FALSE
X-MS-OLK-CONFTYPE:0
BEGIN:VALARM
TRIGGER:-PT1440M
ACTION:DISPLAY
DESCRIPTION:Reminder
END:VALARM
END:VEVENT
END:VCALENDAR
