BEGIN:VCALENDAR
PRODID:-//Microsoft Corporation//Outlook 12.0 MIMEDIR//EN
VERSION:2.0
METHOD:PUBLISH
X-MS-OLK-FORCEINSPECTOROPEN:TRUE
BEGIN:VEVENT
CLASS:PUBLIC
CREATED:20260419T231453Z
DESCRIPTION:Un producto que nace resolviendo un problema real y aportando valor a las personas, es un producto con una alta probabilidad de éxito.\n¿Cómo detectamos esas necesidades? Escuchar al cliente va más allá que leer el buzón de sugerencias. Necesitamos empatizar con ellos, conocer sus problemas reales e idear nuevas soluciones que faciliten su vida diaria.\nAñadir un valor real a las personas con productos que tal vez aún no han sido demandados pero que, una vez conocidos, no puedan vivir sin ellos.\nDirigido a:\nCualquier persona que participe en la creación de nuevos productos, servicios o funcionalidades. Desde responsables del área de innovación, project managers, especialistas en experiencia de usuario o facilitadores de reuniones, hasta equipos de desarrollo, ya que la diversidad en los miembros del equipo que practiquen Design Thinking aumentará sus expectativas de éxito.   \n \n
DTSTART:20200506T150000
DTEND:20200506T160000
DTSTAMP:20260419T231453Z
LOCATION:Online
PRIORITY:5
SEQUENCE:0
SUMMARY;LANGUAGE=es-es:Tecnowebinars.com - :: Design Thinking. En la búsqueda de crear el producto perfecto
TRANSP:OPAQUE
UID:98632c365aa88b8bb30a6027326db265 Tecnowebinars.com
X-MICROSOFT-CDO-BUSYSTATUS:BUSY
X-MICROSOFT-CDO-IMPORTANCE:1
X-MICROSOFT-DISALLOW-COUNTER:FALSE
X-MS-OLK-ALLOWEXTERNCHECK:TRUE
X-MS-OLK-AUTOFILLLOCATION:FALSE
X-MS-OLK-CONFTYPE:0
BEGIN:VALARM
TRIGGER:-PT1440M
ACTION:DISPLAY
DESCRIPTION:Reminder
END:VALARM
END:VEVENT
END:VCALENDAR
