BEGIN:VCALENDAR
PRODID:-//Microsoft Corporation//Outlook 12.0 MIMEDIR//EN
VERSION:2.0
METHOD:PUBLISH
X-MS-OLK-FORCEINSPECTOROPEN:TRUE
BEGIN:VEVENT
CLASS:PUBLIC
CREATED:20260420T003555Z
DESCRIPTION:Panorama's Clash of the Titans 2020 analysis provides independent benchmark data from SAP, Oracle, Microsoft and Infor customers. Join Chris Devault, Director of Industry Relations at Panorama, as he provides additional insight into these four ERP vendors.\n
DTSTART:20200423T190000
DTEND:20200423T200000
DTSTAMP:20260420T003555Z
LOCATION:Online
PRIORITY:5
SEQUENCE:0
SUMMARY;LANGUAGE=es-es:Tecnowebinars.com - :: SAP vs. Oracle vs. Microsoft vs. Infor
TRANSP:OPAQUE
UID:bda8ed4e11317071fffa9de770bb6039 Tecnowebinars.com
X-MICROSOFT-CDO-BUSYSTATUS:BUSY
X-MICROSOFT-CDO-IMPORTANCE:1
X-MICROSOFT-DISALLOW-COUNTER:FALSE
X-MS-OLK-ALLOWEXTERNCHECK:TRUE
X-MS-OLK-AUTOFILLLOCATION:FALSE
X-MS-OLK-CONFTYPE:0
BEGIN:VALARM
TRIGGER:-PT1440M
ACTION:DISPLAY
DESCRIPTION:Reminder
END:VALARM
END:VEVENT
END:VCALENDAR
