BEGIN:VCALENDAR
PRODID:-//Microsoft Corporation//Outlook 12.0 MIMEDIR//EN
VERSION:2.0
METHOD:PUBLISH
X-MS-OLK-FORCEINSPECTOROPEN:TRUE
BEGIN:VEVENT
CLASS:PUBLIC
CREATED:20260420T003705Z
DESCRIPTION:La virtualización de datos proporciona una forma de convertir sus diferentes fuentes de datos en información valiosa que mejora la toma de decisiones e impulsa la innovación y el acceso a los datos gobernados a todos los niveles de su empresa.\n \nAcompáñanos en nuestro webinario y aprende:\n \n• Qué es la virtualización de datos\n \n• Cuáles son sus beneficios\n \n• Cuando no usar la virtualización de datos\n• Cómo implementar la virtualización de datos para beneficiar su negocio \n
DTSTART:20200417T170000
DTEND:20200417T180000
DTSTAMP:20260420T003705Z
LOCATION:Online
PRIORITY:5
SEQUENCE:0
SUMMARY;LANGUAGE=es-es:Tecnowebinars.com - :: ¿La virtualización de datos genera valor a mi compañía?
TRANSP:OPAQUE
UID:2cc4e9f55931a3f5379b1bc3eecaa566 Tecnowebinars.com
X-MICROSOFT-CDO-BUSYSTATUS:BUSY
X-MICROSOFT-CDO-IMPORTANCE:1
X-MICROSOFT-DISALLOW-COUNTER:FALSE
X-MS-OLK-ALLOWEXTERNCHECK:TRUE
X-MS-OLK-AUTOFILLLOCATION:FALSE
X-MS-OLK-CONFTYPE:0
BEGIN:VALARM
TRIGGER:-PT1440M
ACTION:DISPLAY
DESCRIPTION:Reminder
END:VALARM
END:VEVENT
END:VCALENDAR
