BEGIN:VCALENDAR
PRODID:-//Microsoft Corporation//Outlook 12.0 MIMEDIR//EN
VERSION:2.0
METHOD:PUBLISH
X-MS-OLK-FORCEINSPECTOROPEN:TRUE
BEGIN:VEVENT
CLASS:PUBLIC
CREATED:20260419T231458Z
DESCRIPTION:VER EL VIDEO\nUna encuesta de PTC reveló que el 70% de las empresas tienen una estrategia de transformación digital o están trabajando en una.\nAl mismo tiempo sabemos que las barreras que nos encontramos a la hora de llevar a cabo una transformación digital es la jerarquía y el middle management.\nMuchas organizaciones consideran que es suficiente con decidir que un equipo utilice Scrum, Kanban, eXtreme Programming, etc. Y que no es necesario cambiar sus estructuras.\n- ¿Realmente sabemos el impacto que tiene la estructura organizacional en el éxito o no éxito del paso hacia un proceso empírico?\n- ¿Por dónde podemos empezar?\n- ¿Realmente pensamos en los equipos y la entrega de valor? o ¿Nos conformamos con decir que estamos utilizando métodos Agile?\nEn este webinar intentaremos responder a todas estas preguntas y como planteamos un cambio desde Management 3.0.\nAdemás, vamos a compartir casos reales de éxito y fracaso.\n¡No te lo puedes perder!\nVER EL VIDEO\n
DTSTART:20200505T180000
DTEND:20200505T191500
DTSTAMP:20260419T231458Z
LOCATION:Online
PRIORITY:5
SEQUENCE:0
SUMMARY;LANGUAGE=es-es:Tecnowebinars.com - :: Diseño organizacional desde Management 3.0
TRANSP:OPAQUE
UID:a9b11ee8f3bfbaf80ca1a004bafee435 Tecnowebinars.com
X-MICROSOFT-CDO-BUSYSTATUS:BUSY
X-MICROSOFT-CDO-IMPORTANCE:1
X-MICROSOFT-DISALLOW-COUNTER:FALSE
X-MS-OLK-ALLOWEXTERNCHECK:TRUE
X-MS-OLK-AUTOFILLLOCATION:FALSE
X-MS-OLK-CONFTYPE:0
BEGIN:VALARM
TRIGGER:-PT1440M
ACTION:DISPLAY
DESCRIPTION:Reminder
END:VALARM
END:VEVENT
END:VCALENDAR
