BEGIN:VCALENDAR
PRODID:-//Microsoft Corporation//Outlook 12.0 MIMEDIR//EN
VERSION:2.0
METHOD:PUBLISH
X-MS-OLK-FORCEINSPECTOROPEN:TRUE
BEGIN:VEVENT
CLASS:PUBLIC
CREATED:20260420T002804Z
DESCRIPTION:Constanza Herrero Atkins y Jaime Chicheri Fundador en Hotel Marketing School y Revenueknowmads.com.\nNos hablará de como afrontar la posibilidad de crear tu propio perfil profesional desde una cultura y una visión disruptiva y creativa .\nAdemás participará con Constanza Herrero Atkins que hablará de su experiencia como Nómada Digital .\n
DTSTART:20200415T180000
DTEND:20200415T190000
DTSTAMP:20260420T002804Z
LOCATION:Online
PRIORITY:5
SEQUENCE:0
SUMMARY;LANGUAGE=es-es:Tecnowebinars.com - :: Nómadas digitales
TRANSP:OPAQUE
UID:4acbfdf57c1ed7f12bcfd76f4735f58c Tecnowebinars.com
X-MICROSOFT-CDO-BUSYSTATUS:BUSY
X-MICROSOFT-CDO-IMPORTANCE:1
X-MICROSOFT-DISALLOW-COUNTER:FALSE
X-MS-OLK-ALLOWEXTERNCHECK:TRUE
X-MS-OLK-AUTOFILLLOCATION:FALSE
X-MS-OLK-CONFTYPE:0
BEGIN:VALARM
TRIGGER:-PT1440M
ACTION:DISPLAY
DESCRIPTION:Reminder
END:VALARM
END:VEVENT
END:VCALENDAR
