BEGIN:VCALENDAR
PRODID:-//Microsoft Corporation//Outlook 12.0 MIMEDIR//EN
VERSION:2.0
METHOD:PUBLISH
X-MS-OLK-FORCEINSPECTOROPEN:TRUE
BEGIN:VEVENT
CLASS:PUBLIC
CREATED:20260420T003705Z
DESCRIPTION:Carlos Pérez Fur, Director de Marketing en Alannia Resorts no hablará en primera persona de como afrontar la explotación , comercialización y venta de los Campings y la creación del concepto Camping Resort.\n \n
DTSTART:20200414T180000
DTEND:20200414T190000
DTSTAMP:20260420T003705Z
LOCATION:Online
PRIORITY:5
SEQUENCE:0
SUMMARY;LANGUAGE=es-es:Tecnowebinars.com - :: Nuevos modelos de negocio: Camping Resort
TRANSP:OPAQUE
UID:6ca502035824e76b7bb4d3b10bfeeeb5 Tecnowebinars.com
X-MICROSOFT-CDO-BUSYSTATUS:BUSY
X-MICROSOFT-CDO-IMPORTANCE:1
X-MICROSOFT-DISALLOW-COUNTER:FALSE
X-MS-OLK-ALLOWEXTERNCHECK:TRUE
X-MS-OLK-AUTOFILLLOCATION:FALSE
X-MS-OLK-CONFTYPE:0
BEGIN:VALARM
TRIGGER:-PT1440M
ACTION:DISPLAY
DESCRIPTION:Reminder
END:VALARM
END:VEVENT
END:VCALENDAR
