BEGIN:VCALENDAR
PRODID:-//Microsoft Corporation//Outlook 12.0 MIMEDIR//EN
VERSION:2.0
METHOD:PUBLISH
X-MS-OLK-FORCEINSPECTOROPEN:TRUE
BEGIN:VEVENT
CLASS:PUBLIC
CREATED:20260419T213539Z
DESCRIPTION:Join thousands of participants across the globe at the 2-day, complimentary, virtual edition of Realize LIVE to learn how many of the world’s most successful companies are using our smart, fast, nimble and sustainable solutions to advance human-centered innovation. New ideas, thought-provoking collaboration, and career-enhancing connections are just a click away.\n \nGiven what the world is facing today, digital transformation has become a necessity. Human-centered innovation creates value during times of crisis and beyond to succeed in the face of disruption. By putting people at the center of design, we enable more intelligent, rapid and lasting innovation that better equips us to address today’s challenges and propel us into the future. Don’t miss the opportunity to be a part of the conversation driving digital transformation to where today meets tomorrow.\n
DTSTART:20200623T170000
DTEND:20200623T180000
DTSTAMP:20260419T213539Z
LOCATION:Online
PRIORITY:5
SEQUENCE:0
SUMMARY;LANGUAGE=es-es:Tecnowebinars.com - :: Realize LIVE - A two day virtual event. Conferencia Online Siemens.
TRANSP:OPAQUE
UID:c7e27d774e7d1feeee5fd2789f10057d Tecnowebinars.com
X-MICROSOFT-CDO-BUSYSTATUS:BUSY
X-MICROSOFT-CDO-IMPORTANCE:1
X-MICROSOFT-DISALLOW-COUNTER:FALSE
X-MS-OLK-ALLOWEXTERNCHECK:TRUE
X-MS-OLK-AUTOFILLLOCATION:FALSE
X-MS-OLK-CONFTYPE:0
BEGIN:VALARM
TRIGGER:-PT1440M
ACTION:DISPLAY
DESCRIPTION:Reminder
END:VALARM
END:VEVENT
END:VCALENDAR
