BEGIN:VCALENDAR
PRODID:-//Microsoft Corporation//Outlook 12.0 MIMEDIR//EN
VERSION:2.0
METHOD:PUBLISH
X-MS-OLK-FORCEINSPECTOROPEN:TRUE
BEGIN:VEVENT
CLASS:PUBLIC
CREATED:20260420T003630Z
DESCRIPTION: ¿Usa Excel para la planificación de su cadena de suministro?\n \nSeguro que se reconoce en alguno de estos problemas:\n \n          - Tiene grandes niveles de inventario pero sus clientes se quejan por falta de existencias.\n          - La producción se interrumpe constantemente para atender el último pedido urgente que debe enviarse.\n          - Está gastando una fortuna en carga premium ya que siempre se está quedando sin los componentes críticos.\n \nSi está utilizando Excel para planificar su cadena de suministro le aseguramos que está tirando el dinero.\n \nLos pronósticos inexactos conducen a planes de producción y compras inexactos que conducen a clientes descontentos.\n \nEn este webinar le mostraremos cómo la solución QAD DynaSys Demand & Supply Chain Planning (DSCP) le permitirá pronosticar y planificar su cadena de suministro de principio a fin de una manera rápida, ágil y efectiva.\n
DTSTART:20200409T160000
DTEND:20200409T170000
DTSTAMP:20260420T003630Z
LOCATION:Online
PRIORITY:5
SEQUENCE:0
SUMMARY;LANGUAGE=es-es:Tecnowebinars.com - :: Planificar la demanda en excels te cuesta millones. ¿Quieres saber por qué?
TRANSP:OPAQUE
UID:215c685f20415737a67f25cf23a8525f Tecnowebinars.com
X-MICROSOFT-CDO-BUSYSTATUS:BUSY
X-MICROSOFT-CDO-IMPORTANCE:1
X-MICROSOFT-DISALLOW-COUNTER:FALSE
X-MS-OLK-ALLOWEXTERNCHECK:TRUE
X-MS-OLK-AUTOFILLLOCATION:FALSE
X-MS-OLK-CONFTYPE:0
BEGIN:VALARM
TRIGGER:-PT1440M
ACTION:DISPLAY
DESCRIPTION:Reminder
END:VALARM
END:VEVENT
END:VCALENDAR
