BEGIN:VCALENDAR
PRODID:-//Microsoft Corporation//Outlook 12.0 MIMEDIR//EN
VERSION:2.0
METHOD:PUBLISH
X-MS-OLK-FORCEINSPECTOROPEN:TRUE
BEGIN:VEVENT
CLASS:PUBLIC
CREATED:20260420T002937Z
DESCRIPTION:14:00 – 15:00 | Short Takes on Hot Topics\n \nThese presentations will provide updates on topics relevant to our overall theme and the PLM Economy at large.\n \n14:00 – 14:20 | Multiple View Bill of Materials Solution Evaluation Benchmarks Learn More\n \nJames Roche, Director, A&D Practice, CIMdata\n \nCIMdata administers the ADPAG on behalf of the leading A&D OEMs and leading suppliers. In this presentation CIMdata will provide an update on on-going research being conducted on behalf of the group.\n \n14:20 – 14:40 | Agile Methodologies & PLM\n \nTom Gill, Practice Manager, PLM Enterprise and Integration, CIMdata\n \nAgile has taken over software development and is making significant inroads into becoming the dominant PLM deployment methodology. Enterprise deployments have some unique requirements that conflict with agile. This presentation will describe some of the issues and remedies associated with using agile to deploy PLM solutions within the enterprise.\n \n14:40 – 15:00 | Closing the Smart, Connected Lifecycle Loop with IoT\n \nPeter Bilello, President & CEO, CIMdata\n \nWhile some smart, connected products (e.g., elevators) have been around for a few decades, the advent of the IoT and relatively inexpensive sensors have made smart, connected products common place. This presentation will briefly take a look at the current state of IoT related technologies being used to close the smart, connected lifecycle loop and what technologies are on the horizon that are expected to make an impact on this rapidly evolving technology space.\n \n15:00 - 15:30 | Q&A Session\n \nPeter Bilello, President & CEO, CIMdata \n \n15:30 – 15:45 | Closing Comments\n \nPeter Bilello, President & CEO, CIMdata\n
DTSTART:20200409T140000
DTEND:20200409T160000
DTSTAMP:20260420T002937Z
LOCATION:Online
PRIORITY:5
SEQUENCE:0
SUMMARY;LANGUAGE=es-es:Tecnowebinars.com - :: CIMdata’s 2020 PLM Market & Industry Forum: “Products, Smartly Connected” SESSION 3
TRANSP:OPAQUE
UID:521fedc743aabff7707f430329303032 Tecnowebinars.com
X-MICROSOFT-CDO-BUSYSTATUS:BUSY
X-MICROSOFT-CDO-IMPORTANCE:1
X-MICROSOFT-DISALLOW-COUNTER:FALSE
X-MS-OLK-ALLOWEXTERNCHECK:TRUE
X-MS-OLK-AUTOFILLLOCATION:FALSE
X-MS-OLK-CONFTYPE:0
BEGIN:VALARM
TRIGGER:-PT1440M
ACTION:DISPLAY
DESCRIPTION:Reminder
END:VALARM
END:VEVENT
END:VCALENDAR
