BEGIN:VCALENDAR
PRODID:-//Microsoft Corporation//Outlook 12.0 MIMEDIR//EN
VERSION:2.0
METHOD:PUBLISH
X-MS-OLK-FORCEINSPECTOROPEN:TRUE
BEGIN:VEVENT
CLASS:PUBLIC
CREATED:20260420T002920Z
DESCRIPTION:\n14:00 - 14:15 | Q&A - 2019 Market Analysis Results\n\n\n\nStan Przybylinski, Vice President, CIMdata \n \n\n14:15 – 16:00 | Focus on Products, Smartly Connected\n\n\n\nToday most manufactured products are smart and connected, whether they should be or not. This session will focus on the issues that are faced by companies developing such products and will offer some insights into how industry might improve their development and lifecycle management processes to meet these evolving requirements.\n \n\n14:15 – 14:50 | Synching Siloed Development\n\n\n\nCraig Brown, Executive Consultant, CIMdata \n \n\nThe practice at successful engineering/product companies uses concurrent engineering performed by teams of engineers and technicians synchronizing their efforts at key milestones to assess progress and readiness for mass production. The original motivations for synchronization are being challenged by new technologies and processes like additive manufacturing and agile development. New tools and analytics can help across the product lifecycle. This presentation will focus on how siloed development must evolve to meet today’s product lifecycle challenges.\n14:50 – 15:25 | xBOM Management Across the Lifecycle Learn More\nTom Gill, Practice Manager, PLM Enterprise Value and Integration, CIMdata [bio]\nElectronic component obsolescence is a critical issue with smart connected products, especially those with long lifespans. Digital twins are the best approach to effectively address this business problem. This presentation will describe the issues faced by industrial companies and how a properly implemented digital twin that connects data across different BOMs can reduce the impact of component obsolescence.\n\n\n\n15:25 – 16:00 | Closed-Loop Product Development Learn More\n \n\nStan Przybylinski, Vice President, CIMdata\n\n\nOne of the promises of smart connected products is being able to capture product performance data using the IoT and to leverage this data to improve the product and other associated lifecycle processes. But how is this done exactly? The answer is different for each solution provider. This session will focus on how people are addressing this issue.\n\n\n\n \n\n\n \n
DTSTART:20200407T140000
DTEND:20200407T160000
DTSTAMP:20260420T002920Z
LOCATION:Online
PRIORITY:5
SEQUENCE:0
SUMMARY;LANGUAGE=es-es:Tecnowebinars.com - :: CIMdata’s 2020 PLM Market & Industry Forum: “Products, Smartly Connected” SESSION 2
TRANSP:OPAQUE
UID:f660ede84f8f8c7429b87a706e7c2dd0 Tecnowebinars.com
X-MICROSOFT-CDO-BUSYSTATUS:BUSY
X-MICROSOFT-CDO-IMPORTANCE:1
X-MICROSOFT-DISALLOW-COUNTER:FALSE
X-MS-OLK-ALLOWEXTERNCHECK:TRUE
X-MS-OLK-AUTOFILLLOCATION:FALSE
X-MS-OLK-CONFTYPE:0
BEGIN:VALARM
TRIGGER:-PT1440M
ACTION:DISPLAY
DESCRIPTION:Reminder
END:VALARM
END:VEVENT
END:VCALENDAR
