BEGIN:VCALENDAR
PRODID:-//Microsoft Corporation//Outlook 12.0 MIMEDIR//EN
VERSION:2.0
METHOD:PUBLISH
X-MS-OLK-FORCEINSPECTOROPEN:TRUE
BEGIN:VEVENT
CLASS:PUBLIC
CREATED:20260420T003736Z
DESCRIPTION: - 14:00 – 15:00 | The State of PLM – Today’s Market and Leading Trends\n \nPeter Bilello, President & CEO, CIMdata \n \nA review of the current state of the PLM industry with emphasis on trends and issues, including how smart, connected products, and other emerging trends and necessities are critical to PLM software and service providers. CIMdata will present its views on these trends and the impact they have on participants in this increasingly challenging market. An update on how CIMdata is addressing the evolving PLM economy and these trends will be provided.\n \n- 15:00 – 16:00 | 2019 Market Analysis Results\n \nStan Przybylinski, Vice President, CIMdata \n \nRecognized for many years as the best source for comprehensive and accurate insights into the evolution and direction of the PLM industry, CIMdata’s annual PLM Global Market Analysis is first revealed at the PLM Market and Industry Forum. Further detail will be reported in the CIMdata PLM MAR series of reports. \n
DTSTART:20200402T140000
DTEND:20200402T160000
DTSTAMP:20260420T003736Z
LOCATION:Online
PRIORITY:5
SEQUENCE:0
SUMMARY;LANGUAGE=es-es:Tecnowebinars.com - :: CIMdata’s 2020 PLM Market & Industry Forum: “Products, Smartly Connected” SESSION 1
TRANSP:OPAQUE
UID:6cac61adec7d3675c1c20e8715670fdd Tecnowebinars.com
X-MICROSOFT-CDO-BUSYSTATUS:BUSY
X-MICROSOFT-CDO-IMPORTANCE:1
X-MICROSOFT-DISALLOW-COUNTER:FALSE
X-MS-OLK-ALLOWEXTERNCHECK:TRUE
X-MS-OLK-AUTOFILLLOCATION:FALSE
X-MS-OLK-CONFTYPE:0
BEGIN:VALARM
TRIGGER:-PT1440M
ACTION:DISPLAY
DESCRIPTION:Reminder
END:VALARM
END:VEVENT
END:VCALENDAR
