BEGIN:VCALENDAR
PRODID:-//Microsoft Corporation//Outlook 12.0 MIMEDIR//EN
VERSION:2.0
METHOD:PUBLISH
X-MS-OLK-FORCEINSPECTOROPEN:TRUE
BEGIN:VEVENT
CLASS:PUBLIC
CREATED:20260420T003630Z
DESCRIPTION:VER EL VIDEO\nEn los últimos años la suite eHabilis University se ha posicionado como un referente en la transformación digital de las universidades que abarca plataformas para la educación online y creación de contenidos didácticos interactivos, la gestión académica, la gestión de RRHH, la gestión de la calidad y la gestión económica.\nEn este webinar daremos una visión global de las plataformas eHabilis University y profundizaremos en la plataforma de gestión económica de la universidad, piedra angular para una buena gestión y administración de los recursos disponibles por una entidad educativa.\nLa plataforma nos permitirá disponer de una trazabilidad completa del gasto y del ingreso de una universidad utilizando las tecnologías web más actualizadas del mercado.\neHabilis es una suite de plataformas tecnológicas con amplia trayectoria en el mercado en el ámbito de la transformación digital del sector educativo. Esta trayectoria ha sido reconocida por el Talent Summit en los años 2018 y 2019 como una de las 10 mejores iniciativas de Gestión del Talento y el Conocimiento.\nEl webinar será impartido por ponentes de eHabilis University y la Universidad de Vigo (España) que explicarán con detalle el caso de éxito en la digitalización de la gestión económica de esta entidad educativa.\nVER EL VIDEO\n \n
DTSTART:20200428T173000
DTEND:20200428T183000
DTSTAMP:20260420T003630Z
LOCATION:Online
PRIORITY:5
SEQUENCE:0
SUMMARY;LANGUAGE=es-es:Tecnowebinars.com - :: Gestión económica y educativa en la Universidad con eHabilis
TRANSP:OPAQUE
UID:20af1299bfd35a9d92d6b57d2dcad860 Tecnowebinars.com
X-MICROSOFT-CDO-BUSYSTATUS:BUSY
X-MICROSOFT-CDO-IMPORTANCE:1
X-MICROSOFT-DISALLOW-COUNTER:FALSE
X-MS-OLK-ALLOWEXTERNCHECK:TRUE
X-MS-OLK-AUTOFILLLOCATION:FALSE
X-MS-OLK-CONFTYPE:0
BEGIN:VALARM
TRIGGER:-PT1440M
ACTION:DISPLAY
DESCRIPTION:Reminder
END:VALARM
END:VEVENT
END:VCALENDAR
