BEGIN:VCALENDAR
PRODID:-//Microsoft Corporation//Outlook 12.0 MIMEDIR//EN
VERSION:2.0
METHOD:PUBLISH
X-MS-OLK-FORCEINSPECTOROPEN:TRUE
BEGIN:VEVENT
CLASS:PUBLIC
CREATED:20260420T003631Z
DESCRIPTION:VER VIDEO\nEn este webinar desde eHabilis nos explicarán como integran los procesos de formación y videoconferencia.\nUn todo en uno que nos permite desarrollar la teleformación con un grado de calidad óptimo y cumpliendo todas las exigencias de la Fundación Fundae.\nLa situación actual ha impulsado que las organizaciones (Centros de formación, Consultoras especializadas, escuelas de negocio, academias, universidades, etc.) implanten sistemas de teleformación o videoconferencia.\nEn este contexto eHabilis Academic se ha posicionado a la vanguardia de los sistemas de teleformación por cuatro motivos fundamentales:\n• Integra la teleformación y videoconferencia en un único sistema cualquier tipo de duplicidad.\n• Cumple estrictamente todos los requerimientos de la Fundación Fundae en cuanto a la extracción de informes, cuadros de mando, control de aprendizaje, controles de tiempos de conexión, contenidos digitalizados en HTML5 y estándar SCORM y xAPI.\n• Es muy atractivo visualmente y adaptado a cualquier dispositivo móvil, Tablet, PC.\n• Es un sistema SaaS (Software as a Service) de pago por uso e implantación inmediata.\nEn este webinar María Vieira, nos presentará con una demostración en tiempo real como crear una plataforma eHabilis Academic, habilitar una acción formativa, matricular a los alumnos, crear una videoconferencia y consultar el cuadro de mando e informes de la Fundación Fundae.\nVER VIDEO\n
DTSTART:20200414T160000
DTEND:20200414T170000
DTSTAMP:20260420T003631Z
LOCATION:Online
PRIORITY:5
SEQUENCE:0
SUMMARY;LANGUAGE=es-es:Tecnowebinars.com - :: Teleformación con eHabilis: ¿Por qué somos mejores que Zoom y Moodle?
TRANSP:OPAQUE
UID:abfcb10d367a4e0c40d4e3a0766ec857 Tecnowebinars.com
X-MICROSOFT-CDO-BUSYSTATUS:BUSY
X-MICROSOFT-CDO-IMPORTANCE:1
X-MICROSOFT-DISALLOW-COUNTER:FALSE
X-MS-OLK-ALLOWEXTERNCHECK:TRUE
X-MS-OLK-AUTOFILLLOCATION:FALSE
X-MS-OLK-CONFTYPE:0
BEGIN:VALARM
TRIGGER:-PT1440M
ACTION:DISPLAY
DESCRIPTION:Reminder
END:VALARM
END:VEVENT
END:VCALENDAR
