BEGIN:VCALENDAR
PRODID:-//Microsoft Corporation//Outlook 12.0 MIMEDIR//EN
VERSION:2.0
METHOD:PUBLISH
X-MS-OLK-FORCEINSPECTOROPEN:TRUE
BEGIN:VEVENT
CLASS:PUBLIC
CREATED:20260420T003810Z
DESCRIPTION:VER VIDEO \nEHabilis ha sido reconocida por el Talen Summit en los años 2018 y 2019 entre las 10 mejores aplicaciones de Gestión del Talento y el Conocimiento.\nEHabilis - Knowledge Management System, se ha posicionado en los últimos años como referente en el software de colaboración en equipo. \nUn sistema de intranet corporativo que te permite organizar a tus profesionales en departamentos o unidades organizativas de forma inmediata; comunicarse con ellos a través de videoconferencia; gestionar las tareas que realizan y poner a su disposición todo el conocimiento digitalizado de la organización a través de acciones formativas.\nUn todo en uno para tener a tu disposición las opciones de teletrabajo y teleformación que la empresa necesita y gestionar eficazmente a tus equipos.\n VER VIDEO\n
DTSTART:20200416T160000
DTEND:20200416T170000
DTSTAMP:20260420T003810Z
LOCATION:Online
PRIORITY:5
SEQUENCE:0
SUMMARY;LANGUAGE=es-es:Tecnowebinars.com - :: Teletrabajo y colaboración con eHabilis: Por qué somos mejores que Sharepoint y Teams
TRANSP:OPAQUE
UID:c1730c8ff64ddceb4911f4be06283729 Tecnowebinars.com
X-MICROSOFT-CDO-BUSYSTATUS:BUSY
X-MICROSOFT-CDO-IMPORTANCE:1
X-MICROSOFT-DISALLOW-COUNTER:FALSE
X-MS-OLK-ALLOWEXTERNCHECK:TRUE
X-MS-OLK-AUTOFILLLOCATION:FALSE
X-MS-OLK-CONFTYPE:0
BEGIN:VALARM
TRIGGER:-PT1440M
ACTION:DISPLAY
DESCRIPTION:Reminder
END:VALARM
END:VEVENT
END:VCALENDAR
